{"text_format":"1","workbook":"xlsx","n_sheets":4,"sheets":["申込書（ｸﾗﾌﾞ事務局用）","集計表","印刷指定","手書き用申込用紙"],"not_rendered":{"charts":0,"images":0,"macros":1,"external_links":0,"defined_names":4,"comments":0,"pivot_tables":0},"unopened":[],"bounds":{"document_bytes":16777216,"sheet_cells":100000,"rows_first":2000,"rows_last":500,"rows_between":2000,"halvings":0,"cell_chars":16384,"cell_head_chars":4096},"cells_cut":0,"cells_raw":0,"read":"whole","date_system":"1900"}

{"sheet":"申込書（ｸﾗﾌﾞ事務局用）","index":0,"n_rows":159,"n_cols":27,"rows_kept":159,"cut":false,"hidden":false,"merged":[[6,0,6,2],[7,0,7,2],[8,0,8,2],[8,3,8,7]]}
["令和４年度",null,null,null,null,null,null,"１加盟クラブあたり、１０チームまで申し込みできます。"]
["第５５回福井県秋季クラブ対抗バドミントン大会 参加申込書",null,null,null,null,null,null,"各チームからの申込書をここへ取りまとめてくださるようお願いします。"]
[null,null,null,null,"印刷指定画面へ",null,null,"[集計表]で参加チームの集計をしています。チーム数や参加料の確認に役立ててください。"]
[null,null,null,null,"集計表の表示",null,null,"入力後このまま、どこの加盟団体か分かるように「名前を付けて保存」してください。"]
[null,null,null,null,"手書き用申込書の表示",null,null,"保存後、加盟団体事務局へﾒｰﾙに添付して送信してください。"]
[null,null,null,null,null,null,null,null,null,null,"ﾒｰﾙｱﾄﾞﾚｽ：",null,"m20fl5k7@kore.mitene.or.jp"]
["クラブ名"]
["代表者(申込責任者)氏名"]
["代表者電話＆ﾒｰﾙｱﾄﾞﾚｽ"]
["チームcd","申込部門","部門cd","チーム名","市町名","加盟団体","参加料cd","参加料","申込責任者氏名",null,"連絡先",null,null,"表示用チーム名",null,null,null,"部門名","申込部門cd","試合部門cd","試合部門","参加料cd","参加料",null,"加盟団体名","登録団体名","市町名"]
[{"$f":"IF(B11=\"\",\"\",1)","v":""},null,{"$f":"IF($B11=\"\",\"\",VLOOKUP($B11,$R$11:$S$24,2,FALSE))","v":""},null,null,null,null,{"$f":"IF(G11=\"\",\"\",VLOOKUP(G11,$V$10:$W$16,2,FALSE))","v":""},{"$f":"IF($D11=\"\",\"\",$D$8)","v":""},null,{"$f":"IF($D11=\"\",\"\",$D$9)","v":""},null,null,{"$f":"IF(D11=\"\",\"\",D11&\"　\"&C11&\"　\"&F11)","v":""},null,null,null,"Ａ 男子１部","A11","A110","Ａ 男子１部","Ａ 一般",4000,null,"高体連","高体連","福井市"]
[{"$f":"IF(C11=\"\",\"\",\"Ａの部は５～７人で構成。選手は兼ねることができません。\")","v":""},null,null,null,"氏名",null,null,null,null,"選手区分",1,null,null,null,null,null,null,"Ａ 男子２部","A12","A120","Ａ 男子２部","Ａ 高校",3000,null,"中体連","中体連","敦賀市"]
[{"$f":"IF(OR(C11=\"B11\",C11=\"B12\",C11=\"B13\",C11=\"B21\",C11=\"B22\",C11=\"B23\"),\"Ｂの部は６～８人で構成\",\"\")","v":""},null,null,"監督",null,null,null,null,null,"監督",null,null,null,null,null,null,null,"Ａ 男子３部","A13","A130","Ａ 男子３部","Ａ 小中",2000,null,"小学生得連盟","小学生得連盟","大野市"]
[{"$f":"IF(C11=\"\",\"\",\"当日３人までの変更可能\")","v":""},null,null,"ｺｰﾁ",null,null,null,null,null,"ｺｰﾁ",null,null,null,null,null,null,null,"Ａ 女子１部","A21","A210","Ａ 女子１部","Ｂ 一般",{"$f":"W11","v":4000},null,"レディース","レディース","越前市"]
[null,null,null,"ﾏﾈｰｼﾞｬｰ",null,null,null,null,null,"ﾏﾈｰｼﾞｬｰ",null,null,null,null,null,null,null,"Ａ 女子２部","A22","A220","Ａ 女子２部","Ｂ 高校",{"$f":"W12","v":3000},null,"社会人クラブ","社会人クラブ","鯖江市"]
["選手cd","申込部門","部門cd","チーム名","選手氏名","登録番号","小中高一般","登録団体","性別","選手区分",null,null,null,null,null,null,null,"Ａ 女子３部","A23","A230","Ａ 女子３部","Ｂ 小中",{"$f":"W13","v":2000},null,"実業団","実業団","勝山市"]
[{"$f":"IF($A11=\"\",\"\",$C11&$A11&10)","v":""},{"$f":"IF($B11=\"\",\"\",$B11)","v":""},{"$f":"IF($C11=\"\",\"\",$C11)","v":""},{"$f":"IF($D11=\"\",\"\",$D11)","v":""},null,null,null,null,{"$f":"IF(OR($C11=\"A11\",$C11=\"A12\",$C11=\"A13\",$C11=\"B11\",$C11=\"B12\",$C11=\"B13\"),\"男\",IF(OR($C11=\"A21\",$C11=\"A22\",$C11=\"A23\",$C11=\"B21\",$C11=\"B22\",$C11=\"B23\"),\"女\",\"\"))","v":""},"選手1",null,null,null,null,null,null,null,"Ｂ 男子１部","B11","B110","Ｂ 男子１部",null,null,null,"教職員","教職員","坂井市"]
[{"$f":"IF($A11=\"\",\"\",$C11&$A11&20)","v":""},{"$f":"IF($B11=\"\",\"\",$B11)","v":""},{"$f":"IF($C11=\"\",\"\",$C11)","v":""},{"$f":"IF($D11=\"\",\"\",$D11)","v":""},null,null,null,null,{"$f":"IF(OR($C11=\"A11\",$C11=\"A12\",$C11=\"A13\",$C11=\"B11\",$C11=\"B12\",$C11=\"B13\"),\"男\",IF(OR($C11=\"A21\",$C11=\"A22\",$C11=\"A23\",$C11=\"B21\",$C11=\"B22\",$C11=\"B23\"),\"女\",\"\"))","v":""},"選手2",null,null,null,null,null,null,null,"Ｂ 男子２部","B12","B120","Ｂ 男子２部",null,null,null,"福井市","福井市","あわら市"]
[{"$f":"IF($A11=\"\",\"\",$C11&$A11&30)","v":""},{"$f":"IF($B11=\"\",\"\",$B11)","v":""},{"$f":"IF($C11=\"\",\"\",$C11)","v":""},{"$f":"IF($D11=\"\",\"\",$D11)","v":""},null,null,null,null,{"$f":"IF(OR($C11=\"A11\",$C11=\"A12\",$C11=\"A13\",$C11=\"B11\",$C11=\"B12\",$C11=\"B13\"),\"男\",IF(OR($C11=\"A21\",$C11=\"A22\",$C11=\"A23\",$C11=\"B21\",$C11=\"B22\",$C11=\"B23\"),\"女\",\"\"))","v":""},"選手3",null,null,null,null,null,null,null,"Ｂ 男子３部","B13","B130","Ｂ 男子３部",null,null,null,"敦賀市","敦賀市","小浜市"]
[{"$f":"IF($A11=\"\",\"\",$C11&$A11&40)","v":""},{"$f":"IF($B11=\"\",\"\",$B11)","v":""},{"$f":"IF($C11=\"\",\"\",$C11)","v":""},{"$f":"IF($D11=\"\",\"\",$D11)","v":""},null,null,null,null,{"$f":"IF(OR($C11=\"A11\",$C11=\"A12\",$C11=\"A13\",$C11=\"B11\",$C11=\"B12\",$C11=\"B13\"),\"男\",IF(OR($C11=\"A21\",$C11=\"A22\",$C11=\"A23\",$C11=\"B21\",$C11=\"B22\",$C11=\"B23\"),\"女\",\"\"))","v":""},"選手4",null,null,null,null,null,null,null,"Ｂ 女子１部","B21","B210","Ｂ 女子１部",null,null,null,"大野市","大野市","高浜町"]
[{"$f":"IF($A11=\"\",\"\",$C11&$A11&50)","v":""},{"$f":"IF($B11=\"\",\"\",$B11)","v":""},{"$f":"IF($C11=\"\",\"\",$C11)","v":""},{"$f":"IF($D11=\"\",\"\",$D11)","v":""},null,null,null,null,{"$f":"IF(OR($C11=\"A11\",$C11=\"A12\",$C11=\"A13\",$C11=\"B11\",$C11=\"B12\",$C11=\"B13\"),\"男\",IF(OR($C11=\"A21\",$C11=\"A22\",$C11=\"A23\",$C11=\"B21\",$C11=\"B22\",$C11=\"B23\"),\"女\",\"\"))","v":""},"選手5",null,null,null,null,null,null,null,"Ｂ 女子２部","B22","B220","Ｂ 女子２部",null,null,null,"越前市","越前市","おおい町"]
[{"$f":"IF(OR($A11=\"\",$E22=\"\"),\"\",$C11&$A11&60)","v":""},{"$f":"IF(OR($A11=\"\",$E22=\"\"),\"\",$B11)","v":""},{"$f":"IF(OR($A11=\"\",$E22=\"\"),\"\",$C11)","v":""},{"$f":"IF(OR($A11=\"\",$E22=\"\"),\"\",$D11)","v":""},null,null,null,null,{"$f":"IF($E22=\"\",\"\",IF(OR($C11=\"A11\",$C11=\"A12\",$C11=\"A13\",$C11=\"B11\",$C11=\"B12\",$C11=\"B13\"),\"男\",IF(OR($C11=\"A21\",$C11=\"A22\",$C11=\"A23\",$C11=\"B21\",$C11=\"B22\",$C11=\"B23\"),\"女\",\"\")))","v":""},"選手6",null,null,null,null,null,null,null,"Ｂ 女子３部","B23","B230","Ｂ 女子３部",null,null,null,"鯖江市","鯖江市","永平寺町"]
[{"$f":"IF(OR($A11=\"\",$E23=\"\"),\"\",$C11&$A11&70)","v":""},{"$f":"IF(OR($A11=\"\",$E23=\"\"),\"\",$B11)","v":""},{"$f":"IF(OR($A11=\"\",$E23=\"\"),\"\",$C11)","v":""},{"$f":"IF(OR($A11=\"\",$E23=\"\"),\"\",$D11)","v":""},null,null,null,null,{"$f":"IF($E23=\"\",\"\",IF(OR($C11=\"A11\",$C11=\"A12\",$C11=\"A13\",$C11=\"B11\",$C11=\"B12\",$C11=\"B13\"),\"男\",IF(OR($C11=\"A21\",$C11=\"A22\",$C11=\"A23\",$C11=\"B21\",$C11=\"B22\",$C11=\"B23\"),\"女\",\"\")))","v":""},"選手7",null,null,null,null,null,null,null,null,null,"A1120","Ａ 男子１・２部",null,null,null,"勝山市","勝山市","越前町"]
[{"$f":"IF(OR($A11=\"\",$E24=\"\"),\"\",$C11&$A11&80)","v":""},{"$f":"IF(OR($A11=\"\",$E24=\"\"),\"\",$B11)","v":""},{"$f":"IF(OR($A11=\"\",$E24=\"\"),\"\",$C11)","v":""},{"$f":"IF(OR($A11=\"\",$E24=\"\"),\"\",$D11)","v":""},null,null,null,null,{"$f":"IF($E24=\"\",\"\",IF(OR($C11=\"A11\",$C11=\"A12\",$C11=\"A13\",$C11=\"B11\",$C11=\"B12\",$C11=\"B13\"),\"男\",IF(OR($C11=\"A21\",$C11=\"A22\",$C11=\"A23\",$C11=\"B21\",$C11=\"B22\",$C11=\"B23\"),\"女\",\"\")))","v":""},"選手8",null,null,null,null,null,null,null,null,null,"A1230","Ａ 男子２・３部",null,null,null,"坂井市","坂井市","南越前町"]
["チームcd","申込部門","部門cd","チーム名","市町名","加盟団体","参加料cd","参加料","申込責任者氏名",null,"連絡先",null,null,"表示用チーム名",null,null,null,null,null,"A140","Ａ 男子４部",null,null,null,"あわら市","あわら市","美浜町"]
[{"$f":"IF(OR($A11=\"\",$B26=\"\"),\"\",$A11+1)","v":""},null,{"$f":"IF($B26=\"\",\"\",VLOOKUP($B26,$R$11:$S$24,2,FALSE))","v":""},null,null,null,null,{"$f":"IF(G26=\"\",\"\",VLOOKUP(G26,$V$10:$W$16,2,FALSE))","v":""},{"$f":"IF($D26=\"\",\"\",$D$8)","v":""},null,{"$f":"IF($D26=\"\",\"\",$D$9)","v":""},null,null,{"$f":"IF(D26=\"\",\"\",D26&\"　\"&C26&\"　\"&F26)","v":""},null,null,null,null,null,"A1340","Ａ 男子３・４部",null,null,null,"おおい町","おおい町","若狭町"]
[{"$f":"IF(C26=\"\",\"\",\"Ａの部は５～７人で構成。選手は兼ねることができません。\")","v":""},null,null,null,"氏名",null,null,null,null,"選手区分",{"$f":"K12+1","v":2},null,null,null,null,null,null,null,null,"A2120","Ａ 女子１・２部",null,null,null,"小浜市","小浜市","池田町"]
[{"$f":"IF(OR(C26=\"B11\",C26=\"B12\",C26=\"B13\",C26=\"B21\",C26=\"B22\",C26=\"B23\"),\"Ｂの部は６～８人で構成\",\"\")","v":""},null,null,"監督",null,null,null,null,null,"監督",null,null,null,null,null,null,null,null,null,"A2230","Ａ 女子２・３部",null,null,null,"高浜町","高浜町"]
[{"$f":"IF(C26=\"\",\"\",\"当日３人までの変更可能\")","v":""},null,null,"ｺｰﾁ",null,null,null,null,null,"ｺｰﾁ",null,null,null,null,null,null,null,null,null,"A240","Ａ 女子４部",null,null,null,"永平寺町","永平寺町"]
[null,null,null,"ﾏﾈｰｼﾞｬｰ",null,null,null,null,null,"ﾏﾈｰｼﾞｬｰ",null,null,null,null,null,null,null,null,null,"A2340","Ａ 女子３・４部"]
["選手cd","申込部門","部門cd","チーム名","選手氏名","登録番号","小中高一般","登録団体","性別","選手区分",null,null,null,null,null,null,null,null,null,"B1120","Ｂ 男子１・２部"]
[{"$f":"IF($A26=\"\",\"\",$C26&$A26&10)","v":""},{"$f":"IF($B26=\"\",\"\",$B26)","v":""},{"$f":"IF($C26=\"\",\"\",$C26)","v":""},{"$f":"IF($D26=\"\",\"\",$D26)","v":""},null,null,null,null,{"$f":"IF(OR($C26=\"A11\",$C26=\"A12\",$C26=\"A13\",$C26=\"B11\",$C26=\"B12\",$C26=\"B13\"),\"男\",IF(OR($C26=\"A21\",$C26=\"A22\",$C26=\"A23\",$C26=\"B21\",$C26=\"B22\",$C26=\"B23\"),\"女\",\"\"))","v":""},"選手1",null,null,null,null,null,null,null,null,null,"B1230","Ｂ 男子２・３部"]
[{"$f":"IF($A26=\"\",\"\",$C26&$A26&20)","v":""},{"$f":"IF($B26=\"\",\"\",$B26)","v":""},{"$f":"IF($C26=\"\",\"\",$C26)","v":""},{"$f":"IF($D26=\"\",\"\",$D26)","v":""},null,null,null,null,{"$f":"IF(OR($C26=\"A11\",$C26=\"A12\",$C26=\"A13\",$C26=\"B11\",$C26=\"B12\",$C26=\"B13\"),\"男\",IF(OR($C26=\"A21\",$C26=\"A22\",$C26=\"A23\",$C26=\"B21\",$C26=\"B22\",$C26=\"B23\"),\"女\",\"\"))","v":""},"選手2",null,null,null,null,null,null,null,null,null,"B140","Ｂ 男子４部"]
[{"$f":"IF($A26=\"\",\"\",$C26&$A26&30)","v":""},{"$f":"IF($B26=\"\",\"\",$B26)","v":""},{"$f":"IF($C26=\"\",\"\",$C26)","v":""},{"$f":"IF($D26=\"\",\"\",$D26)","v":""},null,null,null,null,{"$f":"IF(OR($C26=\"A11\",$C26=\"A12\",$C26=\"A13\",$C26=\"B11\",$C26=\"B12\",$C26=\"B13\"),\"男\",IF(OR($C26=\"A21\",$C26=\"A22\",$C26=\"A23\",$C26=\"B21\",$C26=\"B22\",$C26=\"B23\"),\"女\",\"\"))","v":""},"選手3",null,null,null,null,null,null,null,null,null,"B1340","Ｂ 男子３・４部"]
[{"$f":"IF($A26=\"\",\"\",$C26&$A26&40)","v":""},{"$f":"IF($B26=\"\",\"\",$B26)","v":""},{"$f":"IF($C26=\"\",\"\",$C26)","v":""},{"$f":"IF($D26=\"\",\"\",$D26)","v":""},null,null,null,null,{"$f":"IF(OR($C26=\"A11\",$C26=\"A12\",$C26=\"A13\",$C26=\"B11\",$C26=\"B12\",$C26=\"B13\"),\"男\",IF(OR($C26=\"A21\",$C26=\"A22\",$C26=\"A23\",$C26=\"B21\",$C26=\"B22\",$C26=\"B23\"),\"女\",\"\"))","v":""},"選手4",null,null,null,null,null,null,null,null,null,"B2120","Ｂ 女子１・２部"]
[{"$f":"IF($A26=\"\",\"\",$C26&$A26&50)","v":""},{"$f":"IF($B26=\"\",\"\",$B26)","v":""},{"$f":"IF($C26=\"\",\"\",$C26)","v":""},{"$f":"IF($D26=\"\",\"\",$D26)","v":""},null,null,null,null,{"$f":"IF(OR($C26=\"A11\",$C26=\"A12\",$C26=\"A13\",$C26=\"B11\",$C26=\"B12\",$C26=\"B13\"),\"男\",IF(OR($C26=\"A21\",$C26=\"A22\",$C26=\"A23\",$C26=\"B21\",$C26=\"B22\",$C26=\"B23\"),\"女\",\"\"))","v":""},"選手5",null,null,null,null,null,null,null,null,null,"B2230","Ｂ 女子２・３部"]
[{"$f":"IF(OR($A26=\"\",$E37=\"\"),\"\",$C26&$A26&60)","v":""},{"$f":"IF(OR($A26=\"\",$E37=\"\"),\"\",$B26)","v":""},{"$f":"IF(OR($A26=\"\",$E37=\"\"),\"\",$C26)","v":""},{"$f":"IF(OR($A26=\"\",$E37=\"\"),\"\",$D26)","v":""},null,null,null,null,{"$f":"IF($E37=\"\",\"\",IF(OR($C26=\"A11\",$C26=\"A12\",$C26=\"A13\",$C26=\"B11\",$C26=\"B12\",$C26=\"B13\"),\"男\",IF(OR($C26=\"A21\",$C26=\"A22\",$C26=\"A23\",$C26=\"B21\",$C26=\"B22\",$C26=\"B23\"),\"女\",\"\")))","v":""},"選手6",null,null,null,null,null,null,null,null,null,"B240","Ｂ 女子４部"]
[{"$f":"IF(OR($A26=\"\",$E38=\"\"),\"\",$C26&$A26&70)","v":""},{"$f":"IF(OR($A26=\"\",$E38=\"\"),\"\",$B26)","v":""},{"$f":"IF(OR($A26=\"\",$E38=\"\"),\"\",$C26)","v":""},{"$f":"IF(OR($A26=\"\",$E38=\"\"),\"\",$D26)","v":""},null,null,null,null,{"$f":"IF($E38=\"\",\"\",IF(OR($C26=\"A11\",$C26=\"A12\",$C26=\"A13\",$C26=\"B11\",$C26=\"B12\",$C26=\"B13\"),\"男\",IF(OR($C26=\"A21\",$C26=\"A22\",$C26=\"A23\",$C26=\"B21\",$C26=\"B22\",$C26=\"B23\"),\"女\",\"\")))","v":""},"選手7",null,null,null,null,null,null,null,null,null,"B2340","Ｂ 女子３・４部"]
[{"$f":"IF(OR($A26=\"\",$E39=\"\"),\"\",$C26&$A26&80)","v":""},{"$f":"IF(OR($A26=\"\",$E39=\"\"),\"\",$B26)","v":""},{"$f":"IF(OR($A26=\"\",$E39=\"\"),\"\",$C26)","v":""},{"$f":"IF(OR($A26=\"\",$E39=\"\"),\"\",$D26)","v":""},null,null,null,null,{"$f":"IF($E39=\"\",\"\",IF(OR($C26=\"A11\",$C26=\"A12\",$C26=\"A13\",$C26=\"B11\",$C26=\"B12\",$C26=\"B13\"),\"男\",IF(OR($C26=\"A21\",$C26=\"A22\",$C26=\"A23\",$C26=\"B21\",$C26=\"B22\",$C26=\"B23\"),\"女\",\"\")))","v":""},"選手8"]
["チームcd","申込部門","部門cd","チーム名","市町名","加盟団体","参加料cd","参加料","申込責任者氏名",null,"連絡先",null,null,"表示用チーム名"]
[{"$f":"IF(OR($A26=\"\",$B41=\"\"),\"\",$A26+1)","v":""},null,{"$f":"IF($B41=\"\",\"\",VLOOKUP($B41,$R$11:$S$24,2,FALSE))","v":""},null,null,null,null,{"$f":"IF(G41=\"\",\"\",VLOOKUP(G41,$V$10:$W$16,2,FALSE))","v":""},{"$f":"IF($D41=\"\",\"\",$D$8)","v":""},null,{"$f":"IF($D41=\"\",\"\",$D$9)","v":""},null,null,{"$f":"IF(D41=\"\",\"\",D41&\"　\"&C41&\"　\"&F41)","v":""}]
[{"$f":"IF(C41=\"\",\"\",\"Ａの部は５～７人で構成。選手は兼ねることができません。\")","v":""},null,null,null,"氏名",null,null,null,null,"選手区分",{"$f":"K27+1","v":3}]
[{"$f":"IF(OR(C41=\"B11\",C41=\"B12\",C41=\"B13\",C41=\"B21\",C41=\"B22\",C41=\"B23\"),\"Ｂの部は６～８人で構成\",\"\")","v":""},null,null,"監督",null,null,null,null,null,"監督"]
[{"$f":"IF(C41=\"\",\"\",\"当日３人までの変更可能\")","v":""},null,null,"ｺｰﾁ",null,null,null,null,null,"ｺｰﾁ"]
[null,null,null,"ﾏﾈｰｼﾞｬｰ",null,null,null,null,null,"ﾏﾈｰｼﾞｬｰ"]
["選手cd","申込部門","部門cd","チーム名","選手氏名","登録番号","小中高一般","登録団体","性別","選手区分"]
[{"$f":"IF($A41=\"\",\"\",$C41&$A41&10)","v":""},{"$f":"IF($B41=\"\",\"\",$B41)","v":""},{"$f":"IF($C41=\"\",\"\",$C41)","v":""},{"$f":"IF($D41=\"\",\"\",$D41)","v":""},null,null,null,null,{"$f":"IF(OR($C41=\"A11\",$C41=\"A12\",$C41=\"A13\",$C41=\"B11\",$C41=\"B12\",$C41=\"B13\"),\"男\",IF(OR($C41=\"A21\",$C41=\"A22\",$C41=\"A23\",$C41=\"B21\",$C41=\"B22\",$C41=\"B23\"),\"女\",\"\"))","v":""},"選手1"]
[{"$f":"IF($A41=\"\",\"\",$C41&$A41&20)","v":""},{"$f":"IF($B41=\"\",\"\",$B41)","v":""},{"$f":"IF($C41=\"\",\"\",$C41)","v":""},{"$f":"IF($D41=\"\",\"\",$D41)","v":""},null,null,null,null,{"$f":"IF(OR($C41=\"A11\",$C41=\"A12\",$C41=\"A13\",$C41=\"B11\",$C41=\"B12\",$C41=\"B13\"),\"男\",IF(OR($C41=\"A21\",$C41=\"A22\",$C41=\"A23\",$C41=\"B21\",$C41=\"B22\",$C41=\"B23\"),\"女\",\"\"))","v":""},"選手2"]
[{"$f":"IF($A41=\"\",\"\",$C41&$A41&30)","v":""},{"$f":"IF($B41=\"\",\"\",$B41)","v":""},{"$f":"IF($C41=\"\",\"\",$C41)","v":""},{"$f":"IF($D41=\"\",\"\",$D41)","v":""},null,null,null,null,{"$f":"IF(OR($C41=\"A11\",$C41=\"A12\",$C41=\"A13\",$C41=\"B11\",$C41=\"B12\",$C41=\"B13\"),\"男\",IF(OR($C41=\"A21\",$C41=\"A22\",$C41=\"A23\",$C41=\"B21\",$C41=\"B22\",$C41=\"B23\"),\"女\",\"\"))","v":""},"選手3"]
[{"$f":"IF($A41=\"\",\"\",$C41&$A41&40)","v":""},{"$f":"IF($B41=\"\",\"\",$B41)","v":""},{"$f":"IF($C41=\"\",\"\",$C41)","v":""},{"$f":"IF($D41=\"\",\"\",$D41)","v":""},null,null,null,null,{"$f":"IF(OR($C41=\"A11\",$C41=\"A12\",$C41=\"A13\",$C41=\"B11\",$C41=\"B12\",$C41=\"B13\"),\"男\",IF(OR($C41=\"A21\",$C41=\"A22\",$C41=\"A23\",$C41=\"B21\",$C41=\"B22\",$C41=\"B23\"),\"女\",\"\"))","v":""},"選手4"]
[{"$f":"IF($A41=\"\",\"\",$C41&$A41&50)","v":""},{"$f":"IF($B41=\"\",\"\",$B41)","v":""},{"$f":"IF($C41=\"\",\"\",$C41)","v":""},{"$f":"IF($D41=\"\",\"\",$D41)","v":""},null,null,null,null,{"$f":"IF(OR($C41=\"A11\",$C41=\"A12\",$C41=\"A13\",$C41=\"B11\",$C41=\"B12\",$C41=\"B13\"),\"男\",IF(OR($C41=\"A21\",$C41=\"A22\",$C41=\"A23\",$C41=\"B21\",$C41=\"B22\",$C41=\"B23\"),\"女\",\"\"))","v":""},"選手5"]
[{"$f":"IF(OR($A41=\"\",$E52=\"\"),\"\",$C41&$A41&60)","v":""},{"$f":"IF(OR($A41=\"\",$E52=\"\"),\"\",$B41)","v":""},{"$f":"IF(OR($A41=\"\",$E52=\"\"),\"\",$C41)","v":""},{"$f":"IF(OR($A41=\"\",$E52=\"\"),\"\",$D41)","v":""},null,null,null,null,{"$f":"IF($E52=\"\",\"\",IF(OR($C41=\"A11\",$C41=\"A12\",$C41=\"A13\",$C41=\"B11\",$C41=\"B12\",$C41=\"B13\"),\"男\",IF(OR($C41=\"A21\",$C41=\"A22\",$C41=\"A23\",$C41=\"B21\",$C41=\"B22\",$C41=\"B23\"),\"女\",\"\")))","v":""},"選手6"]
[{"$f":"IF(OR($A41=\"\",$E53=\"\"),\"\",$C41&$A41&70)","v":""},{"$f":"IF(OR($A41=\"\",$E53=\"\"),\"\",$B41)","v":""},{"$f":"IF(OR($A41=\"\",$E53=\"\"),\"\",$C41)","v":""},{"$f":"IF(OR($A41=\"\",$E53=\"\"),\"\",$D41)","v":""},null,null,null,null,{"$f":"IF($E53=\"\",\"\",IF(OR($C41=\"A11\",$C41=\"A12\",$C41=\"A13\",$C41=\"B11\",$C41=\"B12\",$C41=\"B13\"),\"男\",IF(OR($C41=\"A21\",$C41=\"A22\",$C41=\"A23\",$C41=\"B21\",$C41=\"B22\",$C41=\"B23\"),\"女\",\"\")))","v":""},"選手7"]
[{"$f":"IF(OR($A41=\"\",$E54=\"\"),\"\",$C41&$A41&80)","v":""},{"$f":"IF(OR($A41=\"\",$E54=\"\"),\"\",$B41)","v":""},{"$f":"IF(OR($A41=\"\",$E54=\"\"),\"\",$C41)","v":""},{"$f":"IF(OR($A41=\"\",$E54=\"\"),\"\",$D41)","v":""},null,null,null,null,{"$f":"IF($E54=\"\",\"\",IF(OR($C41=\"A11\",$C41=\"A12\",$C41=\"A13\",$C41=\"B11\",$C41=\"B12\",$C41=\"B13\"),\"男\",IF(OR($C41=\"A21\",$C41=\"A22\",$C41=\"A23\",$C41=\"B21\",$C41=\"B22\",$C41=\"B23\"),\"女\",\"\")))","v":""},"選手8"]
["チームcd","申込部門","部門cd","チーム名","市町名","加盟団体","参加料cd","参加料","申込責任者氏名",null,"連絡先",null,null,"表示用チーム名"]
[{"$f":"IF(OR($A41=\"\",$B56=\"\"),\"\",$A41+1)","v":""},null,{"$f":"IF($B56=\"\",\"\",VLOOKUP($B56,$R$11:$S$24,2,FALSE))","v":""},null,null,null,null,{"$f":"IF(G56=\"\",\"\",VLOOKUP(G56,$V$10:$W$16,2,FALSE))","v":""},{"$f":"IF($D56=\"\",\"\",$D$8)","v":""},null,{"$f":"IF($D56=\"\",\"\",$D$9)","v":""},null,null,{"$f":"IF(D56=\"\",\"\",D56&\"　\"&C56&\"　\"&F56)","v":""}]
[{"$f":"IF(C56=\"\",\"\",\"Ａの部は５～７人で構成。選手は兼ねることができません。\")","v":""},null,null,null,"氏名",null,null,null,null,"選手区分",{"$f":"K42+1","v":4}]
[{"$f":"IF(OR(C56=\"B11\",C56=\"B12\",C56=\"B13\",C56=\"B21\",C56=\"B22\",C56=\"B23\"),\"Ｂの部は６～８人で構成\",\"\")","v":""},null,null,"監督",null,null,null,null,null,"監督"]
[{"$f":"IF(C56=\"\",\"\",\"当日３人までの変更可能\")","v":""},null,null,"ｺｰﾁ",null,null,null,null,null,"ｺｰﾁ"]
[null,null,null,"ﾏﾈｰｼﾞｬｰ",null,null,null,null,null,"ﾏﾈｰｼﾞｬｰ"]
["選手cd","申込部門","部門cd","チーム名","選手氏名","登録番号","小中高一般","登録団体","性別","選手区分"]
[{"$f":"IF($A56=\"\",\"\",$C56&$A56&10)","v":""},{"$f":"IF($B56=\"\",\"\",$B56)","v":""},{"$f":"IF($C56=\"\",\"\",$C56)","v":""},{"$f":"IF($D56=\"\",\"\",$D56)","v":""},null,null,null,null,{"$f":"IF(OR($C56=\"A11\",$C56=\"A12\",$C56=\"A13\",$C56=\"B11\",$C56=\"B12\",$C56=\"B13\"),\"男\",IF(OR($C56=\"A21\",$C56=\"A22\",$C56=\"A23\",$C56=\"B21\",$C56=\"B22\",$C56=\"B23\"),\"女\",\"\"))","v":""},"選手1"]
[{"$f":"IF($A56=\"\",\"\",$C56&$A56&20)","v":""},{"$f":"IF($B56=\"\",\"\",$B56)","v":""},{"$f":"IF($C56=\"\",\"\",$C56)","v":""},{"$f":"IF($D56=\"\",\"\",$D56)","v":""},null,null,null,null,{"$f":"IF(OR($C56=\"A11\",$C56=\"A12\",$C56=\"A13\",$C56=\"B11\",$C56=\"B12\",$C56=\"B13\"),\"男\",IF(OR($C56=\"A21\",$C56=\"A22\",$C56=\"A23\",$C56=\"B21\",$C56=\"B22\",$C56=\"B23\"),\"女\",\"\"))","v":""},"選手2"]
[{"$f":"IF($A56=\"\",\"\",$C56&$A56&30)","v":""},{"$f":"IF($B56=\"\",\"\",$B56)","v":""},{"$f":"IF($C56=\"\",\"\",$C56)","v":""},{"$f":"IF($D56=\"\",\"\",$D56)","v":""},null,null,null,null,{"$f":"IF(OR($C56=\"A11\",$C56=\"A12\",$C56=\"A13\",$C56=\"B11\",$C56=\"B12\",$C56=\"B13\"),\"男\",IF(OR($C56=\"A21\",$C56=\"A22\",$C56=\"A23\",$C56=\"B21\",$C56=\"B22\",$C56=\"B23\"),\"女\",\"\"))","v":""},"選手3"]
[{"$f":"IF($A56=\"\",\"\",$C56&$A56&40)","v":""},{"$f":"IF($B56=\"\",\"\",$B56)","v":""},{"$f":"IF($C56=\"\",\"\",$C56)","v":""},{"$f":"IF($D56=\"\",\"\",$D56)","v":""},null,null,null,null,{"$f":"IF(OR($C56=\"A11\",$C56=\"A12\",$C56=\"A13\",$C56=\"B11\",$C56=\"B12\",$C56=\"B13\"),\"男\",IF(OR($C56=\"A21\",$C56=\"A22\",$C56=\"A23\",$C56=\"B21\",$C56=\"B22\",$C56=\"B23\"),\"女\",\"\"))","v":""},"選手4"]
[{"$f":"IF($A56=\"\",\"\",$C56&$A56&50)","v":""},{"$f":"IF($B56=\"\",\"\",$B56)","v":""},{"$f":"IF($C56=\"\",\"\",$C56)","v":""},{"$f":"IF($D56=\"\",\"\",$D56)","v":""},null,null,null,null,{"$f":"IF(OR($C56=\"A11\",$C56=\"A12\",$C56=\"A13\",$C56=\"B11\",$C56=\"B12\",$C56=\"B13\"),\"男\",IF(OR($C56=\"A21\",$C56=\"A22\",$C56=\"A23\",$C56=\"B21\",$C56=\"B22\",$C56=\"B23\"),\"女\",\"\"))","v":""},"選手5"]
[{"$f":"IF(OR($A56=\"\",$E67=\"\"),\"\",$C56&$A56&60)","v":""},{"$f":"IF(OR($A56=\"\",$E67=\"\"),\"\",$B56)","v":""},{"$f":"IF(OR($A56=\"\",$E67=\"\"),\"\",$C56)","v":""},{"$f":"IF(OR($A56=\"\",$E67=\"\"),\"\",$D56)","v":""},null,null,null,null,{"$f":"IF($E67=\"\",\"\",IF(OR($C56=\"A11\",$C56=\"A12\",$C56=\"A13\",$C56=\"B11\",$C56=\"B12\",$C56=\"B13\"),\"男\",IF(OR($C56=\"A21\",$C56=\"A22\",$C56=\"A23\",$C56=\"B21\",$C56=\"B22\",$C56=\"B23\"),\"女\",\"\")))","v":""},"選手6"]
[{"$f":"IF(OR($A56=\"\",$E68=\"\"),\"\",$C56&$A56&70)","v":""},{"$f":"IF(OR($A56=\"\",$E68=\"\"),\"\",$B56)","v":""},{"$f":"IF(OR($A56=\"\",$E68=\"\"),\"\",$C56)","v":""},{"$f":"IF(OR($A56=\"\",$E68=\"\"),\"\",$D56)","v":""},null,null,null,null,{"$f":"IF($E68=\"\",\"\",IF(OR($C56=\"A11\",$C56=\"A12\",$C56=\"A13\",$C56=\"B11\",$C56=\"B12\",$C56=\"B13\"),\"男\",IF(OR($C56=\"A21\",$C56=\"A22\",$C56=\"A23\",$C56=\"B21\",$C56=\"B22\",$C56=\"B23\"),\"女\",\"\")))","v":""},"選手7"]
[{"$f":"IF(OR($A56=\"\",$E69=\"\"),\"\",$C56&$A56&80)","v":""},{"$f":"IF(OR($A56=\"\",$E69=\"\"),\"\",$B56)","v":""},{"$f":"IF(OR($A56=\"\",$E69=\"\"),\"\",$C56)","v":""},{"$f":"IF(OR($A56=\"\",$E69=\"\"),\"\",$D56)","v":""},null,null,null,null,{"$f":"IF($E69=\"\",\"\",IF(OR($C56=\"A11\",$C56=\"A12\",$C56=\"A13\",$C56=\"B11\",$C56=\"B12\",$C56=\"B13\"),\"男\",IF(OR($C56=\"A21\",$C56=\"A22\",$C56=\"A23\",$C56=\"B21\",$C56=\"B22\",$C56=\"B23\"),\"女\",\"\")))","v":""},"選手8"]
["チームcd","申込部門","部門cd","チーム名","市町名","加盟団体","参加料cd","参加料","申込責任者氏名",null,"連絡先",null,null,"表示用チーム名"]
[{"$f":"IF(OR($A56=\"\",$B71=\"\"),\"\",$A56+1)","v":""},null,{"$f":"IF($B71=\"\",\"\",VLOOKUP($B71,$R$11:$S$24,2,FALSE))","v":""},null,null,null,null,{"$f":"IF(G71=\"\",\"\",VLOOKUP(G71,$V$10:$W$16,2,FALSE))","v":""},{"$f":"IF($D71=\"\",\"\",$D$8)","v":""},null,{"$f":"IF($D71=\"\",\"\",$D$9)","v":""},null,null,{"$f":"IF(D71=\"\",\"\",D71&\"　\"&C71&\"　\"&F71)","v":""}]
[{"$f":"IF(C71=\"\",\"\",\"Ａの部は５～７人で構成。選手は兼ねることができません。\")","v":""},null,null,null,"氏名",null,null,null,null,"選手区分",{"$f":"K57+1","v":5}]
[{"$f":"IF(OR(C71=\"B11\",C71=\"B12\",C71=\"B13\",C71=\"B21\",C71=\"B22\",C71=\"B23\"),\"Ｂの部は６～８人で構成\",\"\")","v":""},null,null,"監督",null,null,null,null,null,"監督"]
[{"$f":"IF(C71=\"\",\"\",\"当日３人までの変更可能\")","v":""},null,null,"ｺｰﾁ",null,null,null,null,null,"ｺｰﾁ"]
[null,null,null,"ﾏﾈｰｼﾞｬｰ",null,null,null,null,null,"ﾏﾈｰｼﾞｬｰ"]
["選手cd","申込部門","部門cd","チーム名","選手氏名","登録番号","小中高一般","登録団体","性別","選手区分"]
[{"$f":"IF($A71=\"\",\"\",$C71&$A71&10)","v":""},{"$f":"IF($B71=\"\",\"\",$B71)","v":""},{"$f":"IF($C71=\"\",\"\",$C71)","v":""},{"$f":"IF($D71=\"\",\"\",$D71)","v":""},null,null,null,null,{"$f":"IF(OR($C71=\"A11\",$C71=\"A12\",$C71=\"A13\",$C71=\"B11\",$C71=\"B12\",$C71=\"B13\"),\"男\",IF(OR($C71=\"A21\",$C71=\"A22\",$C71=\"A23\",$C71=\"B21\",$C71=\"B22\",$C71=\"B23\"),\"女\",\"\"))","v":""},"選手1"]
[{"$f":"IF($A71=\"\",\"\",$C71&$A71&20)","v":""},{"$f":"IF($B71=\"\",\"\",$B71)","v":""},{"$f":"IF($C71=\"\",\"\",$C71)","v":""},{"$f":"IF($D71=\"\",\"\",$D71)","v":""},null,null,null,null,{"$f":"IF(OR($C71=\"A11\",$C71=\"A12\",$C71=\"A13\",$C71=\"B11\",$C71=\"B12\",$C71=\"B13\"),\"男\",IF(OR($C71=\"A21\",$C71=\"A22\",$C71=\"A23\",$C71=\"B21\",$C71=\"B22\",$C71=\"B23\"),\"女\",\"\"))","v":""},"選手2"]
[{"$f":"IF($A71=\"\",\"\",$C71&$A71&30)","v":""},{"$f":"IF($B71=\"\",\"\",$B71)","v":""},{"$f":"IF($C71=\"\",\"\",$C71)","v":""},{"$f":"IF($D71=\"\",\"\",$D71)","v":""},null,null,null,null,{"$f":"IF(OR($C71=\"A11\",$C71=\"A12\",$C71=\"A13\",$C71=\"B11\",$C71=\"B12\",$C71=\"B13\"),\"男\",IF(OR($C71=\"A21\",$C71=\"A22\",$C71=\"A23\",$C71=\"B21\",$C71=\"B22\",$C71=\"B23\"),\"女\",\"\"))","v":""},"選手3"]
[{"$f":"IF($A71=\"\",\"\",$C71&$A71&40)","v":""},{"$f":"IF($B71=\"\",\"\",$B71)","v":""},{"$f":"IF($C71=\"\",\"\",$C71)","v":""},{"$f":"IF($D71=\"\",\"\",$D71)","v":""},null,null,null,null,{"$f":"IF(OR($C71=\"A11\",$C71=\"A12\",$C71=\"A13\",$C71=\"B11\",$C71=\"B12\",$C71=\"B13\"),\"男\",IF(OR($C71=\"A21\",$C71=\"A22\",$C71=\"A23\",$C71=\"B21\",$C71=\"B22\",$C71=\"B23\"),\"女\",\"\"))","v":""},"選手4"]
[{"$f":"IF($A71=\"\",\"\",$C71&$A71&50)","v":""},{"$f":"IF($B71=\"\",\"\",$B71)","v":""},{"$f":"IF($C71=\"\",\"\",$C71)","v":""},{"$f":"IF($D71=\"\",\"\",$D71)","v":""},null,null,null,null,{"$f":"IF(OR($C71=\"A11\",$C71=\"A12\",$C71=\"A13\",$C71=\"B11\",$C71=\"B12\",$C71=\"B13\"),\"男\",IF(OR($C71=\"A21\",$C71=\"A22\",$C71=\"A23\",$C71=\"B21\",$C71=\"B22\",$C71=\"B23\"),\"女\",\"\"))","v":""},"選手5"]
[{"$f":"IF(OR($A71=\"\",$E82=\"\"),\"\",$C71&$A71&60)","v":""},{"$f":"IF(OR($A71=\"\",$E82=\"\"),\"\",$B71)","v":""},{"$f":"IF(OR($A71=\"\",$E82=\"\"),\"\",$C71)","v":""},{"$f":"IF(OR($A71=\"\",$E82=\"\"),\"\",$D71)","v":""},null,null,null,null,{"$f":"IF($E82=\"\",\"\",IF(OR($C71=\"A11\",$C71=\"A12\",$C71=\"A13\",$C71=\"B11\",$C71=\"B12\",$C71=\"B13\"),\"男\",IF(OR($C71=\"A21\",$C71=\"A22\",$C71=\"A23\",$C71=\"B21\",$C71=\"B22\",$C71=\"B23\"),\"女\",\"\")))","v":""},"選手6"]
[{"$f":"IF(OR($A71=\"\",$E83=\"\"),\"\",$C71&$A71&70)","v":""},{"$f":"IF(OR($A71=\"\",$E83=\"\"),\"\",$B71)","v":""},{"$f":"IF(OR($A71=\"\",$E83=\"\"),\"\",$C71)","v":""},{"$f":"IF(OR($A71=\"\",$E83=\"\"),\"\",$D71)","v":""},null,null,null,null,{"$f":"IF($E83=\"\",\"\",IF(OR($C71=\"A11\",$C71=\"A12\",$C71=\"A13\",$C71=\"B11\",$C71=\"B12\",$C71=\"B13\"),\"男\",IF(OR($C71=\"A21\",$C71=\"A22\",$C71=\"A23\",$C71=\"B21\",$C71=\"B22\",$C71=\"B23\"),\"女\",\"\")))","v":""},"選手7"]
[{"$f":"IF(OR($A71=\"\",$E84=\"\"),\"\",$C71&$A71&80)","v":""},{"$f":"IF(OR($A71=\"\",$E84=\"\"),\"\",$B71)","v":""},{"$f":"IF(OR($A71=\"\",$E84=\"\"),\"\",$C71)","v":""},{"$f":"IF(OR($A71=\"\",$E84=\"\"),\"\",$D71)","v":""},null,null,null,null,{"$f":"IF($E84=\"\",\"\",IF(OR($C71=\"A11\",$C71=\"A12\",$C71=\"A13\",$C71=\"B11\",$C71=\"B12\",$C71=\"B13\"),\"男\",IF(OR($C71=\"A21\",$C71=\"A22\",$C71=\"A23\",$C71=\"B21\",$C71=\"B22\",$C71=\"B23\"),\"女\",\"\")))","v":""},"選手8"]
["チームcd","申込部門","部門cd","チーム名","市町名","加盟団体","参加料cd","参加料","申込責任者氏名",null,"連絡先",null,null,"表示用チーム名"]
[{"$f":"IF(OR($A71=\"\",$B86=\"\"),\"\",$A71+1)","v":""},null,{"$f":"IF($B86=\"\",\"\",VLOOKUP($B86,$R$11:$S$24,2,FALSE))","v":""},null,null,null,null,{"$f":"IF(G86=\"\",\"\",VLOOKUP(G86,$V$10:$W$16,2,FALSE))","v":""},{"$f":"IF($D86=\"\",\"\",$D$8)","v":""},null,{"$f":"IF($D86=\"\",\"\",$D$9)","v":""},null,null,{"$f":"IF(D86=\"\",\"\",D86&\"　\"&C86&\"　\"&F86)","v":""}]
[{"$f":"IF(C86=\"\",\"\",\"Ａの部は５～７人で構成。選手は兼ねることができません。\")","v":""},null,null,null,"氏名",null,null,null,null,"選手区分",{"$f":"K72+1","v":6}]
[{"$f":"IF(OR(C86=\"B11\",C86=\"B12\",C86=\"B13\",C86=\"B21\",C86=\"B22\",C86=\"B23\"),\"Ｂの部は６～８人で構成\",\"\")","v":""},null,null,"監督",null,null,null,null,null,"監督"]
[{"$f":"IF(C86=\"\",\"\",\"当日３人までの変更可能\")","v":""},null,null,"ｺｰﾁ",null,null,null,null,null,"ｺｰﾁ"]
[null,null,null,"ﾏﾈｰｼﾞｬｰ",null,null,null,null,null,"ﾏﾈｰｼﾞｬｰ"]
["選手cd","申込部門","部門cd","チーム名","選手氏名","登録番号","小中高一般","登録団体","性別","選手区分"]
[{"$f":"IF($A86=\"\",\"\",$C86&$A86&10)","v":""},{"$f":"IF($B86=\"\",\"\",$B86)","v":""},{"$f":"IF($C86=\"\",\"\",$C86)","v":""},{"$f":"IF($D86=\"\",\"\",$D86)","v":""},null,null,null,null,{"$f":"IF(OR($C86=\"A11\",$C86=\"A12\",$C86=\"A13\",$C86=\"B11\",$C86=\"B12\",$C86=\"B13\"),\"男\",IF(OR($C86=\"A21\",$C86=\"A22\",$C86=\"A23\",$C86=\"B21\",$C86=\"B22\",$C86=\"B23\"),\"女\",\"\"))","v":""},"選手1"]
[{"$f":"IF($A86=\"\",\"\",$C86&$A86&20)","v":""},{"$f":"IF($B86=\"\",\"\",$B86)","v":""},{"$f":"IF($C86=\"\",\"\",$C86)","v":""},{"$f":"IF($D86=\"\",\"\",$D86)","v":""},null,null,null,null,{"$f":"IF(OR($C86=\"A11\",$C86=\"A12\",$C86=\"A13\",$C86=\"B11\",$C86=\"B12\",$C86=\"B13\"),\"男\",IF(OR($C86=\"A21\",$C86=\"A22\",$C86=\"A23\",$C86=\"B21\",$C86=\"B22\",$C86=\"B23\"),\"女\",\"\"))","v":""},"選手2"]
[{"$f":"IF($A86=\"\",\"\",$C86&$A86&30)","v":""},{"$f":"IF($B86=\"\",\"\",$B86)","v":""},{"$f":"IF($C86=\"\",\"\",$C86)","v":""},{"$f":"IF($D86=\"\",\"\",$D86)","v":""},null,null,null,null,{"$f":"IF(OR($C86=\"A11\",$C86=\"A12\",$C86=\"A13\",$C86=\"B11\",$C86=\"B12\",$C86=\"B13\"),\"男\",IF(OR($C86=\"A21\",$C86=\"A22\",$C86=\"A23\",$C86=\"B21\",$C86=\"B22\",$C86=\"B23\"),\"女\",\"\"))","v":""},"選手3"]
[{"$f":"IF($A86=\"\",\"\",$C86&$A86&40)","v":""},{"$f":"IF($B86=\"\",\"\",$B86)","v":""},{"$f":"IF($C86=\"\",\"\",$C86)","v":""},{"$f":"IF($D86=\"\",\"\",$D86)","v":""},null,null,null,null,{"$f":"IF(OR($C86=\"A11\",$C86=\"A12\",$C86=\"A13\",$C86=\"B11\",$C86=\"B12\",$C86=\"B13\"),\"男\",IF(OR($C86=\"A21\",$C86=\"A22\",$C86=\"A23\",$C86=\"B21\",$C86=\"B22\",$C86=\"B23\"),\"女\",\"\"))","v":""},"選手4"]
[{"$f":"IF($A86=\"\",\"\",$C86&$A86&50)","v":""},{"$f":"IF($B86=\"\",\"\",$B86)","v":""},{"$f":"IF($C86=\"\",\"\",$C86)","v":""},{"$f":"IF($D86=\"\",\"\",$D86)","v":""},null,null,null,null,{"$f":"IF(OR($C86=\"A11\",$C86=\"A12\",$C86=\"A13\",$C86=\"B11\",$C86=\"B12\",$C86=\"B13\"),\"男\",IF(OR($C86=\"A21\",$C86=\"A22\",$C86=\"A23\",$C86=\"B21\",$C86=\"B22\",$C86=\"B23\"),\"女\",\"\"))","v":""},"選手5"]
[{"$f":"IF(OR($A86=\"\",$E97=\"\"),\"\",$C86&$A86&60)","v":""},{"$f":"IF(OR($A86=\"\",$E97=\"\"),\"\",$B86)","v":""},{"$f":"IF(OR($A86=\"\",$E97=\"\"),\"\",$C86)","v":""},{"$f":"IF(OR($A86=\"\",$E97=\"\"),\"\",$D86)","v":""},null,null,null,null,{"$f":"IF($E97=\"\",\"\",IF(OR($C86=\"A11\",$C86=\"A12\",$C86=\"A13\",$C86=\"B11\",$C86=\"B12\",$C86=\"B13\"),\"男\",IF(OR($C86=\"A21\",$C86=\"A22\",$C86=\"A23\",$C86=\"B21\",$C86=\"B22\",$C86=\"B23\"),\"女\",\"\")))","v":""},"選手6"]
[{"$f":"IF(OR($A86=\"\",$E98=\"\"),\"\",$C86&$A86&70)","v":""},{"$f":"IF(OR($A86=\"\",$E98=\"\"),\"\",$B86)","v":""},{"$f":"IF(OR($A86=\"\",$E98=\"\"),\"\",$C86)","v":""},{"$f":"IF(OR($A86=\"\",$E98=\"\"),\"\",$D86)","v":""},null,null,null,null,{"$f":"IF($E98=\"\",\"\",IF(OR($C86=\"A11\",$C86=\"A12\",$C86=\"A13\",$C86=\"B11\",$C86=\"B12\",$C86=\"B13\"),\"男\",IF(OR($C86=\"A21\",$C86=\"A22\",$C86=\"A23\",$C86=\"B21\",$C86=\"B22\",$C86=\"B23\"),\"女\",\"\")))","v":""},"選手7"]
[{"$f":"IF(OR($A86=\"\",$E99=\"\"),\"\",$C86&$A86&80)","v":""},{"$f":"IF(OR($A86=\"\",$E99=\"\"),\"\",$B86)","v":""},{"$f":"IF(OR($A86=\"\",$E99=\"\"),\"\",$C86)","v":""},{"$f":"IF(OR($A86=\"\",$E99=\"\"),\"\",$D86)","v":""},null,null,null,null,{"$f":"IF($E99=\"\",\"\",IF(OR($C86=\"A11\",$C86=\"A12\",$C86=\"A13\",$C86=\"B11\",$C86=\"B12\",$C86=\"B13\"),\"男\",IF(OR($C86=\"A21\",$C86=\"A22\",$C86=\"A23\",$C86=\"B21\",$C86=\"B22\",$C86=\"B23\"),\"女\",\"\")))","v":""},"選手8"]
["チームcd","申込部門","部門cd","チーム名","市町名","加盟団体","参加料cd","参加料","申込責任者氏名",null,"連絡先",null,null,"表示用チーム名"]
[{"$f":"IF(OR($A86=\"\",$B101=\"\"),\"\",$A86+1)","v":""},null,{"$f":"IF($B101=\"\",\"\",VLOOKUP($B101,$R$11:$S$24,2,FALSE))","v":""},null,null,null,null,{"$f":"IF(G101=\"\",\"\",VLOOKUP(G101,$V$10:$W$16,2,FALSE))","v":""},{"$f":"IF($D101=\"\",\"\",$D$8)","v":""},null,{"$f":"IF($D101=\"\",\"\",$D$9)","v":""},null,null,{"$f":"IF(D101=\"\",\"\",D101&\"　\"&C101&\"　\"&F101)","v":""}]
[{"$f":"IF(C101=\"\",\"\",\"Ａの部は５～７人で構成。選手は兼ねることができません。\")","v":""},null,null,null,"氏名",null,null,null,null,"選手区分",{"$f":"K87+1","v":7}]
[{"$f":"IF(OR(C101=\"B11\",C101=\"B12\",C101=\"B13\",C101=\"B21\",C101=\"B22\",C101=\"B23\"),\"Ｂの部は６～８人で構成\",\"\")","v":""},null,null,"監督",null,null,null,null,null,"監督"]
[{"$f":"IF(C101=\"\",\"\",\"当日３人までの変更可能\")","v":""},null,null,"ｺｰﾁ",null,null,null,null,null,"ｺｰﾁ"]
[null,null,null,"ﾏﾈｰｼﾞｬｰ",null,null,null,null,null,"ﾏﾈｰｼﾞｬｰ"]
["選手cd","申込部門","部門cd","チーム名","選手氏名","登録番号","小中高一般","登録団体","性別","選手区分"]
[{"$f":"IF($A101=\"\",\"\",$C101&$A101&10)","v":""},{"$f":"IF($B101=\"\",\"\",$B101)","v":""},{"$f":"IF($C101=\"\",\"\",$C101)","v":""},{"$f":"IF($D101=\"\",\"\",$D101)","v":""},null,null,null,null,{"$f":"IF(OR($C101=\"A11\",$C101=\"A12\",$C101=\"A13\",$C101=\"B11\",$C101=\"B12\",$C101=\"B13\"),\"男\",IF(OR($C101=\"A21\",$C101=\"A22\",$C101=\"A23\",$C101=\"B21\",$C101=\"B22\",$C101=\"B23\"),\"女\",\"\"))","v":""},"選手1"]
[{"$f":"IF($A101=\"\",\"\",$C101&$A101&20)","v":""},{"$f":"IF($B101=\"\",\"\",$B101)","v":""},{"$f":"IF($C101=\"\",\"\",$C101)","v":""},{"$f":"IF($D101=\"\",\"\",$D101)","v":""},null,null,null,null,{"$f":"IF(OR($C101=\"A11\",$C101=\"A12\",$C101=\"A13\",$C101=\"B11\",$C101=\"B12\",$C101=\"B13\"),\"男\",IF(OR($C101=\"A21\",$C101=\"A22\",$C101=\"A23\",$C101=\"B21\",$C101=\"B22\",$C101=\"B23\"),\"女\",\"\"))","v":""},"選手2"]
[{"$f":"IF($A101=\"\",\"\",$C101&$A101&30)","v":""},{"$f":"IF($B101=\"\",\"\",$B101)","v":""},{"$f":"IF($C101=\"\",\"\",$C101)","v":""},{"$f":"IF($D101=\"\",\"\",$D101)","v":""},null,null,null,null,{"$f":"IF(OR($C101=\"A11\",$C101=\"A12\",$C101=\"A13\",$C101=\"B11\",$C101=\"B12\",$C101=\"B13\"),\"男\",IF(OR($C101=\"A21\",$C101=\"A22\",$C101=\"A23\",$C101=\"B21\",$C101=\"B22\",$C101=\"B23\"),\"女\",\"\"))","v":""},"選手3"]
[{"$f":"IF($A101=\"\",\"\",$C101&$A101&40)","v":""},{"$f":"IF($B101=\"\",\"\",$B101)","v":""},{"$f":"IF($C101=\"\",\"\",$C101)","v":""},{"$f":"IF($D101=\"\",\"\",$D101)","v":""},null,null,null,null,{"$f":"IF(OR($C101=\"A11\",$C101=\"A12\",$C101=\"A13\",$C101=\"B11\",$C101=\"B12\",$C101=\"B13\"),\"男\",IF(OR($C101=\"A21\",$C101=\"A22\",$C101=\"A23\",$C101=\"B21\",$C101=\"B22\",$C101=\"B23\"),\"女\",\"\"))","v":""},"選手4"]
[{"$f":"IF($A101=\"\",\"\",$C101&$A101&50)","v":""},{"$f":"IF($B101=\"\",\"\",$B101)","v":""},{"$f":"IF($C101=\"\",\"\",$C101)","v":""},{"$f":"IF($D101=\"\",\"\",$D101)","v":""},null,null,null,null,{"$f":"IF(OR($C101=\"A11\",$C101=\"A12\",$C101=\"A13\",$C101=\"B11\",$C101=\"B12\",$C101=\"B13\"),\"男\",IF(OR($C101=\"A21\",$C101=\"A22\",$C101=\"A23\",$C101=\"B21\",$C101=\"B22\",$C101=\"B23\"),\"女\",\"\"))","v":""},"選手5"]
[{"$f":"IF(OR($A101=\"\",$E112=\"\"),\"\",$C101&$A101&60)","v":""},{"$f":"IF(OR($A101=\"\",$E112=\"\"),\"\",$B101)","v":""},{"$f":"IF(OR($A101=\"\",$E112=\"\"),\"\",$C101)","v":""},{"$f":"IF(OR($A101=\"\",$E112=\"\"),\"\",$D101)","v":""},null,null,null,null,{"$f":"IF($E112=\"\",\"\",IF(OR($C101=\"A11\",$C101=\"A12\",$C101=\"A13\",$C101=\"B11\",$C101=\"B12\",$C101=\"B13\"),\"男\",IF(OR($C101=\"A21\",$C101=\"A22\",$C101=\"A23\",$C101=\"B21\",$C101=\"B22\",$C101=\"B23\"),\"女\",\"\")))","v":""},"選手6"]
[{"$f":"IF(OR($A101=\"\",$E113=\"\"),\"\",$C101&$A101&70)","v":""},{"$f":"IF(OR($A101=\"\",$E113=\"\"),\"\",$B101)","v":""},{"$f":"IF(OR($A101=\"\",$E113=\"\"),\"\",$C101)","v":""},{"$f":"IF(OR($A101=\"\",$E113=\"\"),\"\",$D101)","v":""},null,null,null,null,{"$f":"IF($E113=\"\",\"\",IF(OR($C101=\"A11\",$C101=\"A12\",$C101=\"A13\",$C101=\"B11\",$C101=\"B12\",$C101=\"B13\"),\"男\",IF(OR($C101=\"A21\",$C101=\"A22\",$C101=\"A23\",$C101=\"B21\",$C101=\"B22\",$C101=\"B23\"),\"女\",\"\")))","v":""},"選手7"]
[{"$f":"IF(OR($A101=\"\",$E114=\"\"),\"\",$C101&$A101&80)","v":""},{"$f":"IF(OR($A101=\"\",$E114=\"\"),\"\",$B101)","v":""},{"$f":"IF(OR($A101=\"\",$E114=\"\"),\"\",$C101)","v":""},{"$f":"IF(OR($A101=\"\",$E114=\"\"),\"\",$D101)","v":""},null,null,null,null,{"$f":"IF($E114=\"\",\"\",IF(OR($C101=\"A11\",$C101=\"A12\",$C101=\"A13\",$C101=\"B11\",$C101=\"B12\",$C101=\"B13\"),\"男\",IF(OR($C101=\"A21\",$C101=\"A22\",$C101=\"A23\",$C101=\"B21\",$C101=\"B22\",$C101=\"B23\"),\"女\",\"\")))","v":""},"選手8"]
["チームcd","申込部門","部門cd","チーム名","市町名","加盟団体","参加料cd","参加料","申込責任者氏名",null,"連絡先",null,null,"表示用チーム名"]
[{"$f":"IF(OR($A101=\"\",$B116=\"\"),\"\",$A101+1)","v":""},null,{"$f":"IF($B116=\"\",\"\",VLOOKUP($B116,$R$11:$S$24,2,FALSE))","v":""},null,null,null,null,{"$f":"IF(G116=\"\",\"\",VLOOKUP(G116,$V$10:$W$16,2,FALSE))","v":""},{"$f":"IF($D116=\"\",\"\",$D$8)","v":""},null,{"$f":"IF($D116=\"\",\"\",$D$9)","v":""},null,null,{"$f":"IF(D116=\"\",\"\",D116&\"　\"&C116&\"　\"&F116)","v":""}]
[{"$f":"IF(C116=\"\",\"\",\"Ａの部は５～７人で構成。選手は兼ねることができません。\")","v":""},null,null,null,"氏名",null,null,null,null,"選手区分",{"$f":"K102+1","v":8}]
[{"$f":"IF(OR(C116=\"B11\",C116=\"B12\",C116=\"B13\",C116=\"B21\",C116=\"B22\",C116=\"B23\"),\"Ｂの部は６～８人で構成\",\"\")","v":""},null,null,"監督",null,null,null,null,null,"監督"]
[{"$f":"IF(C116=\"\",\"\",\"当日３人までの変更可能\")","v":""},null,null,"ｺｰﾁ",null,null,null,null,null,"ｺｰﾁ"]
[null,null,null,"ﾏﾈｰｼﾞｬｰ",null,null,null,null,null,"ﾏﾈｰｼﾞｬｰ"]
["選手cd","申込部門","部門cd","チーム名","選手氏名","登録番号","小中高一般","登録団体","性別","選手区分"]
[{"$f":"IF($A116=\"\",\"\",$C116&$A116&10)","v":""},{"$f":"IF($B116=\"\",\"\",$B116)","v":""},{"$f":"IF($C116=\"\",\"\",$C116)","v":""},{"$f":"IF($D116=\"\",\"\",$D116)","v":""},null,null,null,null,{"$f":"IF(OR($C116=\"A11\",$C116=\"A12\",$C116=\"A13\",$C116=\"B11\",$C116=\"B12\",$C116=\"B13\"),\"男\",IF(OR($C116=\"A21\",$C116=\"A22\",$C116=\"A23\",$C116=\"B21\",$C116=\"B22\",$C116=\"B23\"),\"女\",\"\"))","v":""},"選手1"]
[{"$f":"IF($A116=\"\",\"\",$C116&$A116&20)","v":""},{"$f":"IF($B116=\"\",\"\",$B116)","v":""},{"$f":"IF($C116=\"\",\"\",$C116)","v":""},{"$f":"IF($D116=\"\",\"\",$D116)","v":""},null,null,null,null,{"$f":"IF(OR($C116=\"A11\",$C116=\"A12\",$C116=\"A13\",$C116=\"B11\",$C116=\"B12\",$C116=\"B13\"),\"男\",IF(OR($C116=\"A21\",$C116=\"A22\",$C116=\"A23\",$C116=\"B21\",$C116=\"B22\",$C116=\"B23\"),\"女\",\"\"))","v":""},"選手2"]
[{"$f":"IF($A116=\"\",\"\",$C116&$A116&30)","v":""},{"$f":"IF($B116=\"\",\"\",$B116)","v":""},{"$f":"IF($C116=\"\",\"\",$C116)","v":""},{"$f":"IF($D116=\"\",\"\",$D116)","v":""},null,null,null,null,{"$f":"IF(OR($C116=\"A11\",$C116=\"A12\",$C116=\"A13\",$C116=\"B11\",$C116=\"B12\",$C116=\"B13\"),\"男\",IF(OR($C116=\"A21\",$C116=\"A22\",$C116=\"A23\",$C116=\"B21\",$C116=\"B22\",$C116=\"B23\"),\"女\",\"\"))","v":""},"選手3"]
[{"$f":"IF($A116=\"\",\"\",$C116&$A116&40)","v":""},{"$f":"IF($B116=\"\",\"\",$B116)","v":""},{"$f":"IF($C116=\"\",\"\",$C116)","v":""},{"$f":"IF($D116=\"\",\"\",$D116)","v":""},null,null,null,null,{"$f":"IF(OR($C116=\"A11\",$C116=\"A12\",$C116=\"A13\",$C116=\"B11\",$C116=\"B12\",$C116=\"B13\"),\"男\",IF(OR($C116=\"A21\",$C116=\"A22\",$C116=\"A23\",$C116=\"B21\",$C116=\"B22\",$C116=\"B23\"),\"女\",\"\"))","v":""},"選手4"]
[{"$f":"IF($A116=\"\",\"\",$C116&$A116&50)","v":""},{"$f":"IF($B116=\"\",\"\",$B116)","v":""},{"$f":"IF($C116=\"\",\"\",$C116)","v":""},{"$f":"IF($D116=\"\",\"\",$D116)","v":""},null,null,null,null,{"$f":"IF(OR($C116=\"A11\",$C116=\"A12\",$C116=\"A13\",$C116=\"B11\",$C116=\"B12\",$C116=\"B13\"),\"男\",IF(OR($C116=\"A21\",$C116=\"A22\",$C116=\"A23\",$C116=\"B21\",$C116=\"B22\",$C116=\"B23\"),\"女\",\"\"))","v":""},"選手5"]
[{"$f":"IF(OR($A116=\"\",$E127=\"\"),\"\",$C116&$A116&60)","v":""},{"$f":"IF(OR($A116=\"\",$E127=\"\"),\"\",$B116)","v":""},{"$f":"IF(OR($A116=\"\",$E127=\"\"),\"\",$C116)","v":""},{"$f":"IF(OR($A116=\"\",$E127=\"\"),\"\",$D116)","v":""},null,null,null,null,{"$f":"IF($E127=\"\",\"\",IF(OR($C116=\"A11\",$C116=\"A12\",$C116=\"A13\",$C116=\"B11\",$C116=\"B12\",$C116=\"B13\"),\"男\",IF(OR($C116=\"A21\",$C116=\"A22\",$C116=\"A23\",$C116=\"B21\",$C116=\"B22\",$C116=\"B23\"),\"女\",\"\")))","v":""},"選手6"]
[{"$f":"IF(OR($A116=\"\",$E128=\"\"),\"\",$C116&$A116&70)","v":""},{"$f":"IF(OR($A116=\"\",$E128=\"\"),\"\",$B116)","v":""},{"$f":"IF(OR($A116=\"\",$E128=\"\"),\"\",$C116)","v":""},{"$f":"IF(OR($A116=\"\",$E128=\"\"),\"\",$D116)","v":""},null,null,null,null,{"$f":"IF($E128=\"\",\"\",IF(OR($C116=\"A11\",$C116=\"A12\",$C116=\"A13\",$C116=\"B11\",$C116=\"B12\",$C116=\"B13\"),\"男\",IF(OR($C116=\"A21\",$C116=\"A22\",$C116=\"A23\",$C116=\"B21\",$C116=\"B22\",$C116=\"B23\"),\"女\",\"\")))","v":""},"選手7"]
[{"$f":"IF(OR($A116=\"\",$E129=\"\"),\"\",$C116&$A116&80)","v":""},{"$f":"IF(OR($A116=\"\",$E129=\"\"),\"\",$B116)","v":""},{"$f":"IF(OR($A116=\"\",$E129=\"\"),\"\",$C116)","v":""},{"$f":"IF(OR($A116=\"\",$E129=\"\"),\"\",$D116)","v":""},null,null,null,null,{"$f":"IF($E129=\"\",\"\",IF(OR($C116=\"A11\",$C116=\"A12\",$C116=\"A13\",$C116=\"B11\",$C116=\"B12\",$C116=\"B13\"),\"男\",IF(OR($C116=\"A21\",$C116=\"A22\",$C116=\"A23\",$C116=\"B21\",$C116=\"B22\",$C116=\"B23\"),\"女\",\"\")))","v":""},"選手8"]
["チームcd","申込部門","部門cd","チーム名","市町名","加盟団体","参加料cd","参加料","申込責任者氏名",null,"連絡先",null,null,"表示用チーム名"]
[{"$f":"IF(OR($A116=\"\",$B131=\"\"),\"\",$A116+1)","v":""},null,{"$f":"IF($B131=\"\",\"\",VLOOKUP($B131,$R$11:$S$24,2,FALSE))","v":""},null,null,null,null,{"$f":"IF(G131=\"\",\"\",VLOOKUP(G131,$V$10:$W$16,2,FALSE))","v":""},{"$f":"IF($D131=\"\",\"\",$D$8)","v":""},null,{"$f":"IF($D131=\"\",\"\",$D$9)","v":""},null,null,{"$f":"IF(D131=\"\",\"\",D131&\"　\"&C131&\"　\"&F131)","v":""}]
[{"$f":"IF(C131=\"\",\"\",\"Ａの部は５～７人で構成。選手は兼ねることができません。\")","v":""},null,null,null,"氏名",null,null,null,null,"選手区分",{"$f":"K117+1","v":9}]
[{"$f":"IF(OR(C131=\"B11\",C131=\"B12\",C131=\"B13\",C131=\"B21\",C131=\"B22\",C131=\"B23\"),\"Ｂの部は６～８人で構成\",\"\")","v":""},null,null,"監督",null,null,null,null,null,"監督"]
[{"$f":"IF(C131=\"\",\"\",\"当日３人までの変更可能\")","v":""},null,null,"ｺｰﾁ",null,null,null,null,null,"ｺｰﾁ"]
[null,null,null,"ﾏﾈｰｼﾞｬｰ",null,null,null,null,null,"ﾏﾈｰｼﾞｬｰ"]
["選手cd","申込部門","部門cd","チーム名","選手氏名","登録番号","小中高一般","登録団体","性別","選手区分"]
[{"$f":"IF($A131=\"\",\"\",$C131&$A131&10)","v":""},{"$f":"IF($B131=\"\",\"\",$B131)","v":""},{"$f":"IF($C131=\"\",\"\",$C131)","v":""},{"$f":"IF($D131=\"\",\"\",$D131)","v":""},null,null,null,null,{"$f":"IF(OR($C131=\"A11\",$C131=\"A12\",$C131=\"A13\",$C131=\"B11\",$C131=\"B12\",$C131=\"B13\"),\"男\",IF(OR($C131=\"A21\",$C131=\"A22\",$C131=\"A23\",$C131=\"B21\",$C131=\"B22\",$C131=\"B23\"),\"女\",\"\"))","v":""},"選手1"]
[{"$f":"IF($A131=\"\",\"\",$C131&$A131&20)","v":""},{"$f":"IF($B131=\"\",\"\",$B131)","v":""},{"$f":"IF($C131=\"\",\"\",$C131)","v":""},{"$f":"IF($D131=\"\",\"\",$D131)","v":""},null,null,null,null,{"$f":"IF(OR($C131=\"A11\",$C131=\"A12\",$C131=\"A13\",$C131=\"B11\",$C131=\"B12\",$C131=\"B13\"),\"男\",IF(OR($C131=\"A21\",$C131=\"A22\",$C131=\"A23\",$C131=\"B21\",$C131=\"B22\",$C131=\"B23\"),\"女\",\"\"))","v":""},"選手2"]
[{"$f":"IF($A131=\"\",\"\",$C131&$A131&30)","v":""},{"$f":"IF($B131=\"\",\"\",$B131)","v":""},{"$f":"IF($C131=\"\",\"\",$C131)","v":""},{"$f":"IF($D131=\"\",\"\",$D131)","v":""},null,null,null,null,{"$f":"IF(OR($C131=\"A11\",$C131=\"A12\",$C131=\"A13\",$C131=\"B11\",$C131=\"B12\",$C131=\"B13\"),\"男\",IF(OR($C131=\"A21\",$C131=\"A22\",$C131=\"A23\",$C131=\"B21\",$C131=\"B22\",$C131=\"B23\"),\"女\",\"\"))","v":""},"選手3"]
[{"$f":"IF($A131=\"\",\"\",$C131&$A131&40)","v":""},{"$f":"IF($B131=\"\",\"\",$B131)","v":""},{"$f":"IF($C131=\"\",\"\",$C131)","v":""},{"$f":"IF($D131=\"\",\"\",$D131)","v":""},null,null,null,null,{"$f":"IF(OR($C131=\"A11\",$C131=\"A12\",$C131=\"A13\",$C131=\"B11\",$C131=\"B12\",$C131=\"B13\"),\"男\",IF(OR($C131=\"A21\",$C131=\"A22\",$C131=\"A23\",$C131=\"B21\",$C131=\"B22\",$C131=\"B23\"),\"女\",\"\"))","v":""},"選手4"]
[{"$f":"IF($A131=\"\",\"\",$C131&$A131&50)","v":""},{"$f":"IF($B131=\"\",\"\",$B131)","v":""},{"$f":"IF($C131=\"\",\"\",$C131)","v":""},{"$f":"IF($D131=\"\",\"\",$D131)","v":""},null,null,null,null,{"$f":"IF(OR($C131=\"A11\",$C131=\"A12\",$C131=\"A13\",$C131=\"B11\",$C131=\"B12\",$C131=\"B13\"),\"男\",IF(OR($C131=\"A21\",$C131=\"A22\",$C131=\"A23\",$C131=\"B21\",$C131=\"B22\",$C131=\"B23\"),\"女\",\"\"))","v":""},"選手5"]
[{"$f":"IF(OR($A131=\"\",$E142=\"\"),\"\",$C131&$A131&60)","v":""},{"$f":"IF(OR($A131=\"\",$E142=\"\"),\"\",$B131)","v":""},{"$f":"IF(OR($A131=\"\",$E142=\"\"),\"\",$C131)","v":""},{"$f":"IF(OR($A131=\"\",$E142=\"\"),\"\",$D131)","v":""},null,null,null,null,{"$f":"IF($E142=\"\",\"\",IF(OR($C131=\"A11\",$C131=\"A12\",$C131=\"A13\",$C131=\"B11\",$C131=\"B12\",$C131=\"B13\"),\"男\",IF(OR($C131=\"A21\",$C131=\"A22\",$C131=\"A23\",$C131=\"B21\",$C131=\"B22\",$C131=\"B23\"),\"女\",\"\")))","v":""},"選手6"]
[{"$f":"IF(OR($A131=\"\",$E143=\"\"),\"\",$C131&$A131&70)","v":""},{"$f":"IF(OR($A131=\"\",$E143=\"\"),\"\",$B131)","v":""},{"$f":"IF(OR($A131=\"\",$E143=\"\"),\"\",$C131)","v":""},{"$f":"IF(OR($A131=\"\",$E143=\"\"),\"\",$D131)","v":""},null,null,null,null,{"$f":"IF($E143=\"\",\"\",IF(OR($C131=\"A11\",$C131=\"A12\",$C131=\"A13\",$C131=\"B11\",$C131=\"B12\",$C131=\"B13\"),\"男\",IF(OR($C131=\"A21\",$C131=\"A22\",$C131=\"A23\",$C131=\"B21\",$C131=\"B22\",$C131=\"B23\"),\"女\",\"\")))","v":""},"選手7"]
[{"$f":"IF(OR($A131=\"\",$E144=\"\"),\"\",$C131&$A131&80)","v":""},{"$f":"IF(OR($A131=\"\",$E144=\"\"),\"\",$B131)","v":""},{"$f":"IF(OR($A131=\"\",$E144=\"\"),\"\",$C131)","v":""},{"$f":"IF(OR($A131=\"\",$E144=\"\"),\"\",$D131)","v":""},null,null,null,null,{"$f":"IF($E144=\"\",\"\",IF(OR($C131=\"A11\",$C131=\"A12\",$C131=\"A13\",$C131=\"B11\",$C131=\"B12\",$C131=\"B13\"),\"男\",IF(OR($C131=\"A21\",$C131=\"A22\",$C131=\"A23\",$C131=\"B21\",$C131=\"B22\",$C131=\"B23\"),\"女\",\"\")))","v":""},"選手8"]
["チームcd","申込部門","部門cd","チーム名","市町名","加盟団体","参加料cd","参加料","申込責任者氏名",null,"連絡先",null,null,"表示用チーム名"]
[{"$f":"IF(OR($A131=\"\",$B146=\"\"),\"\",$A131+1)","v":""},null,{"$f":"IF($B146=\"\",\"\",VLOOKUP($B146,$R$11:$S$24,2,FALSE))","v":""},null,null,null,null,{"$f":"IF(G146=\"\",\"\",VLOOKUP(G146,$V$10:$W$16,2,FALSE))","v":""},{"$f":"IF($D146=\"\",\"\",$D$8)","v":""},null,{"$f":"IF($D146=\"\",\"\",$D$9)","v":""},null,null,{"$f":"IF(D146=\"\",\"\",D146&\"　\"&C146&\"　\"&F146)","v":""}]
[{"$f":"IF(C146=\"\",\"\",\"Ａの部は５～７人で構成。選手は兼ねることができません。\")","v":""},null,null,null,"氏名",null,null,null,null,"選手区分",{"$f":"K132+1","v":10}]
[{"$f":"IF(OR(C146=\"B11\",C146=\"B12\",C146=\"B13\",C146=\"B21\",C146=\"B22\",C146=\"B23\"),\"Ｂの部は６～８人で構成\",\"\")","v":""},null,null,"監督",null,null,null,null,null,"監督"]
[{"$f":"IF(C146=\"\",\"\",\"当日３人までの変更可能\")","v":""},null,null,"ｺｰﾁ",null,null,null,null,null,"ｺｰﾁ"]
[null,null,null,"ﾏﾈｰｼﾞｬｰ",null,null,null,null,null,"ﾏﾈｰｼﾞｬｰ"]
["選手cd","申込部門","部門cd","チーム名","選手氏名","登録番号","小中高一般","登録団体","性別","選手区分"]
[{"$f":"IF($A146=\"\",\"\",$C146&$A146&10)","v":""},{"$f":"IF($B146=\"\",\"\",$B146)","v":""},{"$f":"IF($C146=\"\",\"\",$C146)","v":""},{"$f":"IF($D146=\"\",\"\",$D146)","v":""},null,null,null,null,{"$f":"IF(OR($C146=\"A11\",$C146=\"A12\",$C146=\"A13\",$C146=\"B11\",$C146=\"B12\",$C146=\"B13\"),\"男\",IF(OR($C146=\"A21\",$C146=\"A22\",$C146=\"A23\",$C146=\"B21\",$C146=\"B22\",$C146=\"B23\"),\"女\",\"\"))","v":""},"選手1"]
[{"$f":"IF($A146=\"\",\"\",$C146&$A146&20)","v":""},{"$f":"IF($B146=\"\",\"\",$B146)","v":""},{"$f":"IF($C146=\"\",\"\",$C146)","v":""},{"$f":"IF($D146=\"\",\"\",$D146)","v":""},null,null,null,null,{"$f":"IF(OR($C146=\"A11\",$C146=\"A12\",$C146=\"A13\",$C146=\"B11\",$C146=\"B12\",$C146=\"B13\"),\"男\",IF(OR($C146=\"A21\",$C146=\"A22\",$C146=\"A23\",$C146=\"B21\",$C146=\"B22\",$C146=\"B23\"),\"女\",\"\"))","v":""},"選手2"]
[{"$f":"IF($A146=\"\",\"\",$C146&$A146&30)","v":""},{"$f":"IF($B146=\"\",\"\",$B146)","v":""},{"$f":"IF($C146=\"\",\"\",$C146)","v":""},{"$f":"IF($D146=\"\",\"\",$D146)","v":""},null,null,null,null,{"$f":"IF(OR($C146=\"A11\",$C146=\"A12\",$C146=\"A13\",$C146=\"B11\",$C146=\"B12\",$C146=\"B13\"),\"男\",IF(OR($C146=\"A21\",$C146=\"A22\",$C146=\"A23\",$C146=\"B21\",$C146=\"B22\",$C146=\"B23\"),\"女\",\"\"))","v":""},"選手3"]
[{"$f":"IF($A146=\"\",\"\",$C146&$A146&40)","v":""},{"$f":"IF($B146=\"\",\"\",$B146)","v":""},{"$f":"IF($C146=\"\",\"\",$C146)","v":""},{"$f":"IF($D146=\"\",\"\",$D146)","v":""},null,null,null,null,{"$f":"IF(OR($C146=\"A11\",$C146=\"A12\",$C146=\"A13\",$C146=\"B11\",$C146=\"B12\",$C146=\"B13\"),\"男\",IF(OR($C146=\"A21\",$C146=\"A22\",$C146=\"A23\",$C146=\"B21\",$C146=\"B22\",$C146=\"B23\"),\"女\",\"\"))","v":""},"選手4"]
[{"$f":"IF($A146=\"\",\"\",$C146&$A146&50)","v":""},{"$f":"IF($B146=\"\",\"\",$B146)","v":""},{"$f":"IF($C146=\"\",\"\",$C146)","v":""},{"$f":"IF($D146=\"\",\"\",$D146)","v":""},null,null,null,null,{"$f":"IF(OR($C146=\"A11\",$C146=\"A12\",$C146=\"A13\",$C146=\"B11\",$C146=\"B12\",$C146=\"B13\"),\"男\",IF(OR($C146=\"A21\",$C146=\"A22\",$C146=\"A23\",$C146=\"B21\",$C146=\"B22\",$C146=\"B23\"),\"女\",\"\"))","v":""},"選手5"]
[{"$f":"IF(OR($A146=\"\",$E157=\"\"),\"\",$C146&$A146&60)","v":""},{"$f":"IF(OR($A146=\"\",$E157=\"\"),\"\",$B146)","v":""},{"$f":"IF(OR($A146=\"\",$E157=\"\"),\"\",$C146)","v":""},{"$f":"IF(OR($A146=\"\",$E157=\"\"),\"\",$D146)","v":""},null,null,null,null,{"$f":"IF($E157=\"\",\"\",IF(OR($C146=\"A11\",$C146=\"A12\",$C146=\"A13\",$C146=\"B11\",$C146=\"B12\",$C146=\"B13\"),\"男\",IF(OR($C146=\"A21\",$C146=\"A22\",$C146=\"A23\",$C146=\"B21\",$C146=\"B22\",$C146=\"B23\"),\"女\",\"\")))","v":""},"選手6"]
[{"$f":"IF(OR($A146=\"\",$E158=\"\"),\"\",$C146&$A146&70)","v":""},{"$f":"IF(OR($A146=\"\",$E158=\"\"),\"\",$B146)","v":""},{"$f":"IF(OR($A146=\"\",$E158=\"\"),\"\",$C146)","v":""},{"$f":"IF(OR($A146=\"\",$E158=\"\"),\"\",$D146)","v":""},null,null,null,null,{"$f":"IF($E158=\"\",\"\",IF(OR($C146=\"A11\",$C146=\"A12\",$C146=\"A13\",$C146=\"B11\",$C146=\"B12\",$C146=\"B13\"),\"男\",IF(OR($C146=\"A21\",$C146=\"A22\",$C146=\"A23\",$C146=\"B21\",$C146=\"B22\",$C146=\"B23\"),\"女\",\"\")))","v":""},"選手7"]
[{"$f":"IF(OR($A146=\"\",$E159=\"\"),\"\",$C146&$A146&80)","v":""},{"$f":"IF(OR($A146=\"\",$E159=\"\"),\"\",$B146)","v":""},{"$f":"IF(OR($A146=\"\",$E159=\"\"),\"\",$C146)","v":""},{"$f":"IF(OR($A146=\"\",$E159=\"\"),\"\",$D146)","v":""},null,null,null,null,{"$f":"IF($E159=\"\",\"\",IF(OR($C146=\"A11\",$C146=\"A12\",$C146=\"A13\",$C146=\"B11\",$C146=\"B12\",$C146=\"B13\"),\"男\",IF(OR($C146=\"A21\",$C146=\"A22\",$C146=\"A23\",$C146=\"B21\",$C146=\"B22\",$C146=\"B23\"),\"女\",\"\")))","v":""},"選手8"]

{"sheet":"集計表","index":1,"n_rows":71,"n_cols":33,"rows_kept":71,"cut":false,"hidden":false,"merged":[[24,1,24,5]]}
[null,{"$f":"'申込書（ｸﾗﾌﾞ事務局用）'!$A$2&\" 集計表\"","v":"第５５回福井県秋季クラブ対抗バドミントン大会 参加申込書 集計表"},null,null,null,null,null,null,null,null,null,null,null,"申込書（直接入力用）へ",null,null,null,null,null,null,null,null,null,null,null,null,"参加チーム名",null,"選手氏名","小中高一般","登録番号","登録団体名","性別"]
[null,null,null,null,null,null,null,null,null,null,null,null,null,null,null,null,null,null,null,null,null,null,null,null,null,null,{"$f":"'申込書（ｸﾗﾌﾞ事務局用）'!$K$12","v":1},{"$f":"'申込書（ｸﾗﾌﾞ事務局用）'!$D$11","v":0},{"$f":"'申込書（ｸﾗﾌﾞ事務局用）'!E17","v":0},{"$f":"'申込書（ｸﾗﾌﾞ事務局用）'!F17","v":0},{"$f":"'申込書（ｸﾗﾌﾞ事務局用）'!G17","v":0},{"$f":"'申込書（ｸﾗﾌﾞ事務局用）'!H17","v":0},{"$f":"'申込書（ｸﾗﾌﾞ事務局用）'!I17","v":""}]
[null,"クラブ名",{"$f":"'申込書（ｸﾗﾌﾞ事務局用）'!$D$7","v":0},null,null,null,null,null,null,null,null,null,null,"印刷指定画面へ",null,null,null,null,null,null,null,null,null,null,null,null,{"$f":"'申込書（ｸﾗﾌﾞ事務局用）'!$K$12","v":1},{"$f":"'申込書（ｸﾗﾌﾞ事務局用）'!$D$11","v":0},{"$f":"'申込書（ｸﾗﾌﾞ事務局用）'!E18","v":0},{"$f":"'申込書（ｸﾗﾌﾞ事務局用）'!F18","v":0},{"$f":"'申込書（ｸﾗﾌﾞ事務局用）'!G18","v":0},{"$f":"'申込書（ｸﾗﾌﾞ事務局用）'!H18","v":0},{"$f":"'申込書（ｸﾗﾌﾞ事務局用）'!I18","v":""}]
[null,"申込責任者",{"$f":"'申込書（ｸﾗﾌﾞ事務局用）'!$D$8","v":0},null,null,null,null,null,null,null,null,null,null,null,null,null,null,null,null,null,null,null,null,null,null,null,{"$f":"'申込書（ｸﾗﾌﾞ事務局用）'!$K$12","v":1},{"$f":"'申込書（ｸﾗﾌﾞ事務局用）'!$D$11","v":0},{"$f":"'申込書（ｸﾗﾌﾞ事務局用）'!E19","v":0},{"$f":"'申込書（ｸﾗﾌﾞ事務局用）'!F19","v":0},{"$f":"'申込書（ｸﾗﾌﾞ事務局用）'!G19","v":0},{"$f":"'申込書（ｸﾗﾌﾞ事務局用）'!H19","v":0},{"$f":"'申込書（ｸﾗﾌﾞ事務局用）'!I19","v":""}]
[null,null,null,null,null,null,null,null,null,null,null,null,null,null,null,null,null,null,null,null,null,null,null,null,null,null,{"$f":"'申込書（ｸﾗﾌﾞ事務局用）'!$K$12","v":1},{"$f":"'申込書（ｸﾗﾌﾞ事務局用）'!$D$11","v":0},{"$f":"'申込書（ｸﾗﾌﾞ事務局用）'!E20","v":0},{"$f":"'申込書（ｸﾗﾌﾞ事務局用）'!F20","v":0},{"$f":"'申込書（ｸﾗﾌﾞ事務局用）'!G20","v":0},{"$f":"'申込書（ｸﾗﾌﾞ事務局用）'!H20","v":0},{"$f":"'申込書（ｸﾗﾌﾞ事務局用）'!I20","v":""}]
[null,null,null,null,null,null,"チーム数",null,null,null,"参加料","チーム数","参加料",null,null,null,null,null,null,null,null,null,null,null,null,null,{"$f":"'申込書（ｸﾗﾌﾞ事務局用）'!$K$12","v":1},{"$f":"'申込書（ｸﾗﾌﾞ事務局用）'!$D$11","v":0},{"$f":"'申込書（ｸﾗﾌﾞ事務局用）'!E21","v":0},{"$f":"'申込書（ｸﾗﾌﾞ事務局用）'!F21","v":0},{"$f":"'申込書（ｸﾗﾌﾞ事務局用）'!G21","v":0},{"$f":"'申込書（ｸﾗﾌﾞ事務局用）'!H21","v":0},{"$f":"'申込書（ｸﾗﾌﾞ事務局用）'!I21","v":""}]
[null,null,null,null,"A11","Ａ 男子１部",{"$f":"COUNTIF($G$26:$H$35,$E7)","v":0},null,1,{"$f":"'申込書（ｸﾗﾌﾞ事務局用）'!V11","v":"Ａ 一般"},{"$f":"'申込書（ｸﾗﾌﾞ事務局用）'!W11","v":4000},{"$f":"COUNTIF($J$26:$J$35,$J7)","v":0},{"$f":"SUMIF($J$26:$K$35,$J7,$K$26:$K$35)","v":0},null,null,null,null,null,null,null,null,null,null,null,null,null,{"$f":"'申込書（ｸﾗﾌﾞ事務局用）'!$K$12","v":1},{"$f":"'申込書（ｸﾗﾌﾞ事務局用）'!$D$11","v":0},{"$f":"'申込書（ｸﾗﾌﾞ事務局用）'!E23","v":0},{"$f":"'申込書（ｸﾗﾌﾞ事務局用）'!F23","v":0},{"$f":"'申込書（ｸﾗﾌﾞ事務局用）'!G23","v":0},{"$f":"'申込書（ｸﾗﾌﾞ事務局用）'!H23","v":0},{"$f":"'申込書（ｸﾗﾌﾞ事務局用）'!I23","v":""}]
[null,null,null,null,"A12","Ａ 男子２部",{"$f":"COUNTIF($G$26:$H$35,$E8)","v":0},null,2,{"$f":"'申込書（ｸﾗﾌﾞ事務局用）'!V12","v":"Ａ 高校"},{"$f":"'申込書（ｸﾗﾌﾞ事務局用）'!W12","v":3000},{"$f":"COUNTIF($J$26:$J$35,$J8)","v":0},{"$f":"SUMIF($J$26:$K$35,$J8,$K$26:$K$35)","v":0},null,null,null,null,null,null,null,null,null,null,null,null,null,{"$f":"'申込書（ｸﾗﾌﾞ事務局用）'!$K$12","v":1},{"$f":"'申込書（ｸﾗﾌﾞ事務局用）'!$D$11","v":0},{"$f":"'申込書（ｸﾗﾌﾞ事務局用）'!E24","v":0},{"$f":"'申込書（ｸﾗﾌﾞ事務局用）'!F24","v":0},{"$f":"'申込書（ｸﾗﾌﾞ事務局用）'!G24","v":0},{"$f":"'申込書（ｸﾗﾌﾞ事務局用）'!H24","v":0},{"$f":"'申込書（ｸﾗﾌﾞ事務局用）'!I24","v":""}]
[null,null,null,null,"A13","Ａ 男子３部",{"$f":"COUNTIF($G$26:$H$35,$E9)","v":0},null,3,{"$f":"'申込書（ｸﾗﾌﾞ事務局用）'!V13","v":"Ａ 小中"},{"$f":"'申込書（ｸﾗﾌﾞ事務局用）'!W13","v":2000},{"$f":"COUNTIF($J$26:$J$35,$J9)","v":0},{"$f":"SUMIF($J$26:$K$35,$J9,$K$26:$K$35)","v":0},null,null,null,null,null,null,null,null,null,null,null,null,null,{"$f":"'申込書（ｸﾗﾌﾞ事務局用）'!$K$27","v":2},{"$f":"'申込書（ｸﾗﾌﾞ事務局用）'!$D$26","v":0},{"$f":"'申込書（ｸﾗﾌﾞ事務局用）'!E32","v":0},{"$f":"'申込書（ｸﾗﾌﾞ事務局用）'!F32","v":0},{"$f":"'申込書（ｸﾗﾌﾞ事務局用）'!G32","v":0},{"$f":"'申込書（ｸﾗﾌﾞ事務局用）'!H32","v":0},{"$f":"'申込書（ｸﾗﾌﾞ事務局用）'!I32","v":""}]
[null,null,null,null,null,"小計",{"$f":"SUM(G7:G9)","v":0},null,null,"小計",null,{"$f":"SUM(L7:L9)","v":0},{"$f":"SUM(M7:M9)","v":0},null,null,null,null,null,null,null,null,null,null,null,null,null,{"$f":"'申込書（ｸﾗﾌﾞ事務局用）'!$K$27","v":2},{"$f":"'申込書（ｸﾗﾌﾞ事務局用）'!$D$26","v":0},{"$f":"'申込書（ｸﾗﾌﾞ事務局用）'!E33","v":0},{"$f":"'申込書（ｸﾗﾌﾞ事務局用）'!F33","v":0},{"$f":"'申込書（ｸﾗﾌﾞ事務局用）'!G33","v":0},{"$f":"'申込書（ｸﾗﾌﾞ事務局用）'!H33","v":0},{"$f":"'申込書（ｸﾗﾌﾞ事務局用）'!I33","v":""}]
[null,null,null,null,"A21","Ａ 女子１部",{"$f":"COUNTIF($G$26:$H$35,$E11)","v":0},null,4,{"$f":"'申込書（ｸﾗﾌﾞ事務局用）'!V14","v":"Ｂ 一般"},{"$f":"K7","v":4000},{"$f":"COUNTIF($J$26:$J$35,$J11)","v":0},{"$f":"SUMIF($J$26:$K$35,$J11,$K$26:$K$35)","v":0},null,null,null,null,null,null,null,null,null,null,null,null,null,{"$f":"'申込書（ｸﾗﾌﾞ事務局用）'!$K$27","v":2},{"$f":"'申込書（ｸﾗﾌﾞ事務局用）'!$D$26","v":0},{"$f":"'申込書（ｸﾗﾌﾞ事務局用）'!E34","v":0},{"$f":"'申込書（ｸﾗﾌﾞ事務局用）'!F34","v":0},{"$f":"'申込書（ｸﾗﾌﾞ事務局用）'!G34","v":0},{"$f":"'申込書（ｸﾗﾌﾞ事務局用）'!H34","v":0},{"$f":"'申込書（ｸﾗﾌﾞ事務局用）'!I34","v":""}]
[null,null,null,null,"A22","Ａ 女子２部",{"$f":"COUNTIF($G$26:$H$35,$E12)","v":0},null,5,{"$f":"'申込書（ｸﾗﾌﾞ事務局用）'!V15","v":"Ｂ 高校"},{"$f":"K8","v":3000},{"$f":"COUNTIF($J$26:$J$35,$J12)","v":0},{"$f":"SUMIF($J$26:$K$35,$J12,$K$26:$K$35)","v":0},null,null,null,null,null,null,null,null,null,null,null,null,null,{"$f":"'申込書（ｸﾗﾌﾞ事務局用）'!$K$27","v":2},{"$f":"'申込書（ｸﾗﾌﾞ事務局用）'!$D$26","v":0},{"$f":"'申込書（ｸﾗﾌﾞ事務局用）'!E35","v":0},{"$f":"'申込書（ｸﾗﾌﾞ事務局用）'!F35","v":0},{"$f":"'申込書（ｸﾗﾌﾞ事務局用）'!G35","v":0},{"$f":"'申込書（ｸﾗﾌﾞ事務局用）'!H35","v":0},{"$f":"'申込書（ｸﾗﾌﾞ事務局用）'!I35","v":""}]
[null,null,null,null,"A23","Ａ 女子３部",{"$f":"COUNTIF($G$26:$H$35,$E13)","v":0},null,6,{"$f":"'申込書（ｸﾗﾌﾞ事務局用）'!V16","v":"Ｂ 小中"},{"$f":"K9","v":2000},{"$f":"COUNTIF($J$26:$J$35,$J13)","v":0},{"$f":"SUMIF($J$26:$K$35,$J13,$K$26:$K$35)","v":0},null,null,null,null,null,null,null,null,null,null,null,null,null,{"$f":"'申込書（ｸﾗﾌﾞ事務局用）'!$K$27","v":2},{"$f":"'申込書（ｸﾗﾌﾞ事務局用）'!$D$26","v":0},{"$f":"'申込書（ｸﾗﾌﾞ事務局用）'!E36","v":0},{"$f":"'申込書（ｸﾗﾌﾞ事務局用）'!F36","v":0},{"$f":"'申込書（ｸﾗﾌﾞ事務局用）'!G36","v":0},{"$f":"'申込書（ｸﾗﾌﾞ事務局用）'!H36","v":0},{"$f":"'申込書（ｸﾗﾌﾞ事務局用）'!I36","v":""}]
[null,null,null,null,null,"小計",{"$f":"SUM(G11:G13)","v":0},null,null,"小計",null,{"$f":"SUM(L11:L13)","v":0},{"$f":"SUM(M11:M13)","v":0},null,null,null,null,null,null,null,null,null,null,null,null,null,{"$f":"'申込書（ｸﾗﾌﾞ事務局用）'!$K$27","v":2},{"$f":"'申込書（ｸﾗﾌﾞ事務局用）'!$D$26","v":0},{"$f":"'申込書（ｸﾗﾌﾞ事務局用）'!E38","v":0},{"$f":"'申込書（ｸﾗﾌﾞ事務局用）'!F38","v":0},{"$f":"'申込書（ｸﾗﾌﾞ事務局用）'!G38","v":0},{"$f":"'申込書（ｸﾗﾌﾞ事務局用）'!H38","v":0},{"$f":"'申込書（ｸﾗﾌﾞ事務局用）'!I38","v":""}]
[null,null,null,null,"B11","Ｂ 男子１部",{"$f":"COUNTIF($G$26:$H$35,$E15)","v":0},null,null,"合計",null,{"$f":"SUM(L10,L14)","v":0},{"$f":"SUM(M10,M14)","v":0},null,null,null,null,null,null,null,null,null,null,null,null,null,{"$f":"'申込書（ｸﾗﾌﾞ事務局用）'!$K$27","v":2},{"$f":"'申込書（ｸﾗﾌﾞ事務局用）'!$D$26","v":0},{"$f":"'申込書（ｸﾗﾌﾞ事務局用）'!E39","v":0},{"$f":"'申込書（ｸﾗﾌﾞ事務局用）'!F39","v":0},{"$f":"'申込書（ｸﾗﾌﾞ事務局用）'!G39","v":0},{"$f":"'申込書（ｸﾗﾌﾞ事務局用）'!H39","v":0},{"$f":"'申込書（ｸﾗﾌﾞ事務局用）'!I39","v":""}]
[null,null,null,null,"B12","Ｂ 男子２部",{"$f":"COUNTIF($G$26:$H$35,$E16)","v":0},null,null,null,null,null,null,null,null,null,null,null,null,null,null,null,null,null,null,null,{"$f":"'申込書（ｸﾗﾌﾞ事務局用）'!$K$42","v":3},{"$f":"'申込書（ｸﾗﾌﾞ事務局用）'!$D$41","v":0},{"$f":"'申込書（ｸﾗﾌﾞ事務局用）'!E47","v":0},{"$f":"'申込書（ｸﾗﾌﾞ事務局用）'!F47","v":0},{"$f":"'申込書（ｸﾗﾌﾞ事務局用）'!G47","v":0},{"$f":"'申込書（ｸﾗﾌﾞ事務局用）'!H47","v":0},{"$f":"'申込書（ｸﾗﾌﾞ事務局用）'!I47","v":""}]
[null,null,null,null,"B13","Ｂ 男子３部",{"$f":"COUNTIF($G$26:$H$35,$E17)","v":0},null,null,null,null,null,null,null,null,null,null,null,null,null,null,null,null,null,null,null,{"$f":"'申込書（ｸﾗﾌﾞ事務局用）'!$K$42","v":3},{"$f":"'申込書（ｸﾗﾌﾞ事務局用）'!$D$41","v":0},{"$f":"'申込書（ｸﾗﾌﾞ事務局用）'!E48","v":0},{"$f":"'申込書（ｸﾗﾌﾞ事務局用）'!F48","v":0},{"$f":"'申込書（ｸﾗﾌﾞ事務局用）'!G48","v":0},{"$f":"'申込書（ｸﾗﾌﾞ事務局用）'!H48","v":0},{"$f":"'申込書（ｸﾗﾌﾞ事務局用）'!I48","v":""}]
[null,null,null,null,null,"小計",{"$f":"SUM(G15:G17)","v":0},null,null,null,null,null,null,null,null,null,null,null,null,null,null,null,null,null,null,null,{"$f":"'申込書（ｸﾗﾌﾞ事務局用）'!$K$42","v":3},{"$f":"'申込書（ｸﾗﾌﾞ事務局用）'!$D$41","v":0},{"$f":"'申込書（ｸﾗﾌﾞ事務局用）'!E49","v":0},{"$f":"'申込書（ｸﾗﾌﾞ事務局用）'!F49","v":0},{"$f":"'申込書（ｸﾗﾌﾞ事務局用）'!G49","v":0},{"$f":"'申込書（ｸﾗﾌﾞ事務局用）'!H49","v":0},{"$f":"'申込書（ｸﾗﾌﾞ事務局用）'!I49","v":""}]
[null,null,null,null,"B21","Ｂ 女子１部",{"$f":"COUNTIF($G$26:$H$35,$E19)","v":0},null,null,null,null,null,null,null,null,null,null,null,null,null,null,null,null,null,null,null,{"$f":"'申込書（ｸﾗﾌﾞ事務局用）'!$K$42","v":3},{"$f":"'申込書（ｸﾗﾌﾞ事務局用）'!$D$41","v":0},{"$f":"'申込書（ｸﾗﾌﾞ事務局用）'!E50","v":0},{"$f":"'申込書（ｸﾗﾌﾞ事務局用）'!F50","v":0},{"$f":"'申込書（ｸﾗﾌﾞ事務局用）'!G50","v":0},{"$f":"'申込書（ｸﾗﾌﾞ事務局用）'!H50","v":0},{"$f":"'申込書（ｸﾗﾌﾞ事務局用）'!I50","v":""}]
[null,null,null,null,"B22","Ｂ 女子２部",{"$f":"COUNTIF($G$26:$H$35,$E20)","v":0},null,null,null,null,null,null,null,null,null,null,null,null,null,null,null,null,null,null,null,{"$f":"'申込書（ｸﾗﾌﾞ事務局用）'!$K$42","v":3},{"$f":"'申込書（ｸﾗﾌﾞ事務局用）'!$D$41","v":0},{"$f":"'申込書（ｸﾗﾌﾞ事務局用）'!E51","v":0},{"$f":"'申込書（ｸﾗﾌﾞ事務局用）'!F51","v":0},{"$f":"'申込書（ｸﾗﾌﾞ事務局用）'!G51","v":0},{"$f":"'申込書（ｸﾗﾌﾞ事務局用）'!H51","v":0},{"$f":"'申込書（ｸﾗﾌﾞ事務局用）'!I51","v":""}]
[null,null,null,null,"B23","Ｂ 女子３部",{"$f":"COUNTIF($G$26:$H$35,$E21)","v":0},null,null,null,null,null,null,null,null,null,null,null,null,null,null,null,null,null,null,null,{"$f":"'申込書（ｸﾗﾌﾞ事務局用）'!$K$42","v":3},{"$f":"'申込書（ｸﾗﾌﾞ事務局用）'!$D$41","v":0},{"$f":"'申込書（ｸﾗﾌﾞ事務局用）'!E53","v":0},{"$f":"'申込書（ｸﾗﾌﾞ事務局用）'!F53","v":0},{"$f":"'申込書（ｸﾗﾌﾞ事務局用）'!G53","v":0},{"$f":"'申込書（ｸﾗﾌﾞ事務局用）'!H53","v":0},{"$f":"'申込書（ｸﾗﾌﾞ事務局用）'!I53","v":""}]
[null,null,null,null,null,"小計",{"$f":"SUM(G19:G21)","v":0},null,null,null,null,null,null,null,null,null,null,null,null,null,null,null,null,null,null,null,{"$f":"'申込書（ｸﾗﾌﾞ事務局用）'!$K$42","v":3},{"$f":"'申込書（ｸﾗﾌﾞ事務局用）'!$D$41","v":0},{"$f":"'申込書（ｸﾗﾌﾞ事務局用）'!E54","v":0},{"$f":"'申込書（ｸﾗﾌﾞ事務局用）'!F54","v":0},{"$f":"'申込書（ｸﾗﾌﾞ事務局用）'!G54","v":0},{"$f":"'申込書（ｸﾗﾌﾞ事務局用）'!H54","v":0},{"$f":"'申込書（ｸﾗﾌﾞ事務局用）'!I54","v":""}]
[null,null,null,null,null,"合計",{"$f":"SUM(G10,G14,G18,G22)","v":0},null,null,null,null,null,null,null,null,null,null,null,null,null,null,null,null,null,null,null,{"$f":"'申込書（ｸﾗﾌﾞ事務局用）'!$K$57","v":4},{"$f":"'申込書（ｸﾗﾌﾞ事務局用）'!$D$56","v":0},{"$f":"'申込書（ｸﾗﾌﾞ事務局用）'!E62","v":0},{"$f":"'申込書（ｸﾗﾌﾞ事務局用）'!F62","v":0},{"$f":"'申込書（ｸﾗﾌﾞ事務局用）'!G62","v":0},{"$f":"'申込書（ｸﾗﾌﾞ事務局用）'!H62","v":0},{"$f":"'申込書（ｸﾗﾌﾞ事務局用）'!I62","v":""}]
[null,null,null,null,null,null,null,null,null,null,null,null,null,null,null,null,null,null,null,null,null,null,null,null,null,null,{"$f":"'申込書（ｸﾗﾌﾞ事務局用）'!$K$57","v":4},{"$f":"'申込書（ｸﾗﾌﾞ事務局用）'!$D$56","v":0},{"$f":"'申込書（ｸﾗﾌﾞ事務局用）'!E63","v":0},{"$f":"'申込書（ｸﾗﾌﾞ事務局用）'!F63","v":0},{"$f":"'申込書（ｸﾗﾌﾞ事務局用）'!G63","v":0},{"$f":"'申込書（ｸﾗﾌﾞ事務局用）'!H63","v":0},{"$f":"'申込書（ｸﾗﾌﾞ事務局用）'!I63","v":""}]
[1,"参加チーム名",null,null,null,null,"参加部門",null,null,"参加料",null,null,null,"申込書（直接入力用）へ",null,null,null,null,null,null,null,null,null,null,null,null,{"$f":"'申込書（ｸﾗﾌﾞ事務局用）'!$K$57","v":4},{"$f":"'申込書（ｸﾗﾌﾞ事務局用）'!$D$56","v":0},{"$f":"'申込書（ｸﾗﾌﾞ事務局用）'!E64","v":0},{"$f":"'申込書（ｸﾗﾌﾞ事務局用）'!F64","v":0},{"$f":"'申込書（ｸﾗﾌﾞ事務局用）'!G64","v":0},{"$f":"'申込書（ｸﾗﾌﾞ事務局用）'!H64","v":0},{"$f":"'申込書（ｸﾗﾌﾞ事務局用）'!I64","v":""}]
[2,{"$f":"IF('申込書（ｸﾗﾌﾞ事務局用）'!$D11=\"\",\"\",'申込書（ｸﾗﾌﾞ事務局用）'!$D11)","v":""},null,null,null,null,{"$f":"IF('申込書（ｸﾗﾌﾞ事務局用）'!$C11=\"\",\"\",'申込書（ｸﾗﾌﾞ事務局用）'!$C11)","v":""},{"$f":"IF($G26=\"\",\"\",VLOOKUP($G26,$E$7:$F$21,2,FALSE))","v":""},null,{"$f":"IF('申込書（ｸﾗﾌﾞ事務局用）'!$G11=\"\",\"\",'申込書（ｸﾗﾌﾞ事務局用）'!$G11)","v":""},{"$f":"IF($J26=\"\",\"\",VLOOKUP($J26,$J$7:$K$13,2,FALSE))","v":""},null,null,null,null,null,null,null,null,null,null,null,null,null,null,null,{"$f":"'申込書（ｸﾗﾌﾞ事務局用）'!$K$57","v":4},{"$f":"'申込書（ｸﾗﾌﾞ事務局用）'!$D$56","v":0},{"$f":"'申込書（ｸﾗﾌﾞ事務局用）'!E65","v":0},{"$f":"'申込書（ｸﾗﾌﾞ事務局用）'!F65","v":0},{"$f":"'申込書（ｸﾗﾌﾞ事務局用）'!G65","v":0},{"$f":"'申込書（ｸﾗﾌﾞ事務局用）'!H65","v":0},{"$f":"'申込書（ｸﾗﾌﾞ事務局用）'!I65","v":""}]
[3,{"$f":"IF('申込書（ｸﾗﾌﾞ事務局用）'!$D26=\"\",\"\",'申込書（ｸﾗﾌﾞ事務局用）'!$D26)","v":""},null,null,null,null,{"$f":"IF('申込書（ｸﾗﾌﾞ事務局用）'!$C26=\"\",\"\",'申込書（ｸﾗﾌﾞ事務局用）'!$C26)","v":""},"",null,{"$f":"IF('申込書（ｸﾗﾌﾞ事務局用）'!$G26=\"\",\"\",'申込書（ｸﾗﾌﾞ事務局用）'!$G26)","v":""},{"$f":"IF($J27=\"\",\"\",VLOOKUP($J27,$J$7:$K$13,2,FALSE))","v":""},null,null,null,null,null,null,null,null,null,null,null,null,null,null,null,{"$f":"'申込書（ｸﾗﾌﾞ事務局用）'!$K$57","v":4},{"$f":"'申込書（ｸﾗﾌﾞ事務局用）'!$D$56","v":0},{"$f":"'申込書（ｸﾗﾌﾞ事務局用）'!E66","v":0},{"$f":"'申込書（ｸﾗﾌﾞ事務局用）'!F66","v":0},{"$f":"'申込書（ｸﾗﾌﾞ事務局用）'!G66","v":0},{"$f":"'申込書（ｸﾗﾌﾞ事務局用）'!H66","v":0},{"$f":"'申込書（ｸﾗﾌﾞ事務局用）'!I66","v":""}]
[4,{"$f":"IF('申込書（ｸﾗﾌﾞ事務局用）'!$D41=\"\",\"\",'申込書（ｸﾗﾌﾞ事務局用）'!$D41)","v":""},null,null,null,null,{"$f":"IF('申込書（ｸﾗﾌﾞ事務局用）'!$C41=\"\",\"\",'申込書（ｸﾗﾌﾞ事務局用）'!$C41)","v":""},"",null,{"$f":"IF('申込書（ｸﾗﾌﾞ事務局用）'!$G41=\"\",\"\",'申込書（ｸﾗﾌﾞ事務局用）'!$G41)","v":""},"",null,null,null,null,null,null,null,null,null,null,null,null,null,null,null,{"$f":"'申込書（ｸﾗﾌﾞ事務局用）'!$K$57","v":4},{"$f":"'申込書（ｸﾗﾌﾞ事務局用）'!$D$56","v":0},{"$f":"'申込書（ｸﾗﾌﾞ事務局用）'!E68","v":0},{"$f":"'申込書（ｸﾗﾌﾞ事務局用）'!F68","v":0},{"$f":"'申込書（ｸﾗﾌﾞ事務局用）'!G68","v":0},{"$f":"'申込書（ｸﾗﾌﾞ事務局用）'!H68","v":0},{"$f":"'申込書（ｸﾗﾌﾞ事務局用）'!I68","v":""}]
[5,{"$f":"IF('申込書（ｸﾗﾌﾞ事務局用）'!$D56=\"\",\"\",'申込書（ｸﾗﾌﾞ事務局用）'!$D56)","v":""},null,null,null,null,{"$f":"IF('申込書（ｸﾗﾌﾞ事務局用）'!$C56=\"\",\"\",'申込書（ｸﾗﾌﾞ事務局用）'!$C56)","v":""},"",null,{"$f":"IF('申込書（ｸﾗﾌﾞ事務局用）'!$G56=\"\",\"\",'申込書（ｸﾗﾌﾞ事務局用）'!$G56)","v":""},"",null,null,null,null,null,null,null,null,null,null,null,null,null,null,null,{"$f":"'申込書（ｸﾗﾌﾞ事務局用）'!$K$57","v":4},{"$f":"'申込書（ｸﾗﾌﾞ事務局用）'!$D$56","v":0},{"$f":"'申込書（ｸﾗﾌﾞ事務局用）'!E69","v":0},{"$f":"'申込書（ｸﾗﾌﾞ事務局用）'!F69","v":0},{"$f":"'申込書（ｸﾗﾌﾞ事務局用）'!G69","v":0},{"$f":"'申込書（ｸﾗﾌﾞ事務局用）'!H69","v":0},{"$f":"'申込書（ｸﾗﾌﾞ事務局用）'!I69","v":""}]
[6,{"$f":"IF('申込書（ｸﾗﾌﾞ事務局用）'!$D71=\"\",\"\",'申込書（ｸﾗﾌﾞ事務局用）'!$D71)","v":""},null,null,null,null,{"$f":"IF('申込書（ｸﾗﾌﾞ事務局用）'!$C71=\"\",\"\",'申込書（ｸﾗﾌﾞ事務局用）'!$C71)","v":""},"",null,{"$f":"IF('申込書（ｸﾗﾌﾞ事務局用）'!$G71=\"\",\"\",'申込書（ｸﾗﾌﾞ事務局用）'!$G71)","v":""},"",null,null,null,null,null,null,null,null,null,null,null,null,null,null,null,{"$f":"'申込書（ｸﾗﾌﾞ事務局用）'!$K$72","v":5},{"$f":"'申込書（ｸﾗﾌﾞ事務局用）'!$D$71","v":0},{"$f":"'申込書（ｸﾗﾌﾞ事務局用）'!E77","v":0},{"$f":"'申込書（ｸﾗﾌﾞ事務局用）'!F77","v":0},{"$f":"'申込書（ｸﾗﾌﾞ事務局用）'!G77","v":0},{"$f":"'申込書（ｸﾗﾌﾞ事務局用）'!H77","v":0},{"$f":"'申込書（ｸﾗﾌﾞ事務局用）'!I77","v":""}]
[7,{"$f":"IF('申込書（ｸﾗﾌﾞ事務局用）'!$D86=\"\",\"\",'申込書（ｸﾗﾌﾞ事務局用）'!$D86)","v":""},null,null,null,null,{"$f":"IF('申込書（ｸﾗﾌﾞ事務局用）'!$C86=\"\",\"\",'申込書（ｸﾗﾌﾞ事務局用）'!$C86)","v":""},"",null,{"$f":"IF('申込書（ｸﾗﾌﾞ事務局用）'!$G86=\"\",\"\",'申込書（ｸﾗﾌﾞ事務局用）'!$G86)","v":""},"",null,null,null,null,null,null,null,null,null,null,null,null,null,null,null,{"$f":"'申込書（ｸﾗﾌﾞ事務局用）'!$K$72","v":5},{"$f":"'申込書（ｸﾗﾌﾞ事務局用）'!$D$71","v":0},{"$f":"'申込書（ｸﾗﾌﾞ事務局用）'!E78","v":0},{"$f":"'申込書（ｸﾗﾌﾞ事務局用）'!F78","v":0},{"$f":"'申込書（ｸﾗﾌﾞ事務局用）'!G78","v":0},{"$f":"'申込書（ｸﾗﾌﾞ事務局用）'!H78","v":0},{"$f":"'申込書（ｸﾗﾌﾞ事務局用）'!I78","v":""}]
[8,{"$f":"IF('申込書（ｸﾗﾌﾞ事務局用）'!$D101=\"\",\"\",'申込書（ｸﾗﾌﾞ事務局用）'!$D101)","v":""},null,null,null,null,{"$f":"IF('申込書（ｸﾗﾌﾞ事務局用）'!$C101=\"\",\"\",'申込書（ｸﾗﾌﾞ事務局用）'!$C101)","v":""},"",null,{"$f":"IF('申込書（ｸﾗﾌﾞ事務局用）'!$G101=\"\",\"\",'申込書（ｸﾗﾌﾞ事務局用）'!$G101)","v":""},"",null,null,null,null,null,null,null,null,null,null,null,null,null,null,null,{"$f":"'申込書（ｸﾗﾌﾞ事務局用）'!$K$72","v":5},{"$f":"'申込書（ｸﾗﾌﾞ事務局用）'!$D$71","v":0},{"$f":"'申込書（ｸﾗﾌﾞ事務局用）'!E79","v":0},{"$f":"'申込書（ｸﾗﾌﾞ事務局用）'!F79","v":0},{"$f":"'申込書（ｸﾗﾌﾞ事務局用）'!G79","v":0},{"$f":"'申込書（ｸﾗﾌﾞ事務局用）'!H79","v":0},{"$f":"'申込書（ｸﾗﾌﾞ事務局用）'!I79","v":""}]
[9,{"$f":"IF('申込書（ｸﾗﾌﾞ事務局用）'!$D116=\"\",\"\",'申込書（ｸﾗﾌﾞ事務局用）'!$D116)","v":""},null,null,null,null,{"$f":"IF('申込書（ｸﾗﾌﾞ事務局用）'!$C116=\"\",\"\",'申込書（ｸﾗﾌﾞ事務局用）'!$C116)","v":""},"",null,{"$f":"IF('申込書（ｸﾗﾌﾞ事務局用）'!$G116=\"\",\"\",'申込書（ｸﾗﾌﾞ事務局用）'!$G116)","v":""},"",null,null,null,null,null,null,null,null,null,null,null,null,null,null,null,{"$f":"'申込書（ｸﾗﾌﾞ事務局用）'!$K$72","v":5},{"$f":"'申込書（ｸﾗﾌﾞ事務局用）'!$D$71","v":0},{"$f":"'申込書（ｸﾗﾌﾞ事務局用）'!E80","v":0},{"$f":"'申込書（ｸﾗﾌﾞ事務局用）'!F80","v":0},{"$f":"'申込書（ｸﾗﾌﾞ事務局用）'!G80","v":0},{"$f":"'申込書（ｸﾗﾌﾞ事務局用）'!H80","v":0},{"$f":"'申込書（ｸﾗﾌﾞ事務局用）'!I80","v":""}]
[10,{"$f":"IF('申込書（ｸﾗﾌﾞ事務局用）'!$D131=\"\",\"\",'申込書（ｸﾗﾌﾞ事務局用）'!$D131)","v":""},null,null,null,null,{"$f":"IF('申込書（ｸﾗﾌﾞ事務局用）'!$C131=\"\",\"\",'申込書（ｸﾗﾌﾞ事務局用）'!$C131)","v":""},"",null,{"$f":"IF('申込書（ｸﾗﾌﾞ事務局用）'!$G131=\"\",\"\",'申込書（ｸﾗﾌﾞ事務局用）'!$G131)","v":""},"",null,null,"印刷指定画面へ",null,null,null,null,null,null,null,null,null,null,null,null,{"$f":"'申込書（ｸﾗﾌﾞ事務局用）'!$K$72","v":5},{"$f":"'申込書（ｸﾗﾌﾞ事務局用）'!$D$71","v":0},{"$f":"'申込書（ｸﾗﾌﾞ事務局用）'!E81","v":0},{"$f":"'申込書（ｸﾗﾌﾞ事務局用）'!F81","v":0},{"$f":"'申込書（ｸﾗﾌﾞ事務局用）'!G81","v":0},{"$f":"'申込書（ｸﾗﾌﾞ事務局用）'!H81","v":0},{"$f":"'申込書（ｸﾗﾌﾞ事務局用）'!I81","v":""}]
[null,{"$f":"IF('申込書（ｸﾗﾌﾞ事務局用）'!$D146=\"\",\"\",'申込書（ｸﾗﾌﾞ事務局用）'!$D146)","v":""},null,null,null,null,{"$f":"IF('申込書（ｸﾗﾌﾞ事務局用）'!$C146=\"\",\"\",'申込書（ｸﾗﾌﾞ事務局用）'!$C146)","v":""},"",null,{"$f":"IF('申込書（ｸﾗﾌﾞ事務局用）'!$G146=\"\",\"\",'申込書（ｸﾗﾌﾞ事務局用）'!$G146)","v":""},{"$f":"IF($J35=\"\",\"\",VLOOKUP($J35,$J$7:$K$13,2,FALSE))","v":""},null,null,null,null,null,null,null,null,null,null,null,null,null,null,null,{"$f":"'申込書（ｸﾗﾌﾞ事務局用）'!$K$72","v":5},{"$f":"'申込書（ｸﾗﾌﾞ事務局用）'!$D$71","v":0},{"$f":"'申込書（ｸﾗﾌﾞ事務局用）'!E83","v":0},{"$f":"'申込書（ｸﾗﾌﾞ事務局用）'!F83","v":0},{"$f":"'申込書（ｸﾗﾌﾞ事務局用）'!G83","v":0},{"$f":"'申込書（ｸﾗﾌﾞ事務局用）'!H83","v":0},{"$f":"'申込書（ｸﾗﾌﾞ事務局用）'!I83","v":""}]
[null,null,null,null,null,null,null,null,null,null,null,null,null,null,null,null,null,null,null,null,null,null,null,null,null,null,{"$f":"'申込書（ｸﾗﾌﾞ事務局用）'!$K$72","v":5},{"$f":"'申込書（ｸﾗﾌﾞ事務局用）'!$D$71","v":0},{"$f":"'申込書（ｸﾗﾌﾞ事務局用）'!E84","v":0},{"$f":"'申込書（ｸﾗﾌﾞ事務局用）'!F84","v":0},{"$f":"'申込書（ｸﾗﾌﾞ事務局用）'!G84","v":0},{"$f":"'申込書（ｸﾗﾌﾞ事務局用）'!H84","v":0},{"$f":"'申込書（ｸﾗﾌﾞ事務局用）'!I84","v":""}]
[null,null,null,null,null,null,null,null,null,null,null,null,null,null,null,null,null,null,null,null,null,null,null,null,null,null,{"$f":"'申込書（ｸﾗﾌﾞ事務局用）'!$K$87","v":6},{"$f":"'申込書（ｸﾗﾌﾞ事務局用）'!$D$86","v":0},{"$f":"'申込書（ｸﾗﾌﾞ事務局用）'!E92","v":0},{"$f":"'申込書（ｸﾗﾌﾞ事務局用）'!F92","v":0},{"$f":"'申込書（ｸﾗﾌﾞ事務局用）'!G92","v":0},{"$f":"'申込書（ｸﾗﾌﾞ事務局用）'!H92","v":0},{"$f":"'申込書（ｸﾗﾌﾞ事務局用）'!I92","v":""}]
[null,null,null,null,null,null,null,null,null,null,null,null,null,null,null,null,null,null,null,null,null,null,null,null,null,null,{"$f":"'申込書（ｸﾗﾌﾞ事務局用）'!$K$87","v":6},{"$f":"'申込書（ｸﾗﾌﾞ事務局用）'!$D$86","v":0},{"$f":"'申込書（ｸﾗﾌﾞ事務局用）'!E93","v":0},{"$f":"'申込書（ｸﾗﾌﾞ事務局用）'!F93","v":0},{"$f":"'申込書（ｸﾗﾌﾞ事務局用）'!G93","v":0},{"$f":"'申込書（ｸﾗﾌﾞ事務局用）'!H93","v":0},{"$f":"'申込書（ｸﾗﾌﾞ事務局用）'!I93","v":""}]
[null,null,null,null,null,null,null,null,null,null,null,null,null,null,null,null,null,null,null,null,null,null,null,null,null,null,{"$f":"'申込書（ｸﾗﾌﾞ事務局用）'!$K$87","v":6},{"$f":"'申込書（ｸﾗﾌﾞ事務局用）'!$D$86","v":0},{"$f":"'申込書（ｸﾗﾌﾞ事務局用）'!E94","v":0},{"$f":"'申込書（ｸﾗﾌﾞ事務局用）'!F94","v":0},{"$f":"'申込書（ｸﾗﾌﾞ事務局用）'!G94","v":0},{"$f":"'申込書（ｸﾗﾌﾞ事務局用）'!H94","v":0},{"$f":"'申込書（ｸﾗﾌﾞ事務局用）'!I94","v":""}]
[null,null,null,null,null,null,null,null,null,null,null,null,null,null,null,null,null,null,null,null,null,null,null,null,null,null,{"$f":"'申込書（ｸﾗﾌﾞ事務局用）'!$K$87","v":6},{"$f":"'申込書（ｸﾗﾌﾞ事務局用）'!$D$86","v":0},{"$f":"'申込書（ｸﾗﾌﾞ事務局用）'!E95","v":0},{"$f":"'申込書（ｸﾗﾌﾞ事務局用）'!F95","v":0},{"$f":"'申込書（ｸﾗﾌﾞ事務局用）'!G95","v":0},{"$f":"'申込書（ｸﾗﾌﾞ事務局用）'!H95","v":0},{"$f":"'申込書（ｸﾗﾌﾞ事務局用）'!I95","v":""}]
[null,null,null,null,null,null,null,null,null,null,null,null,null,null,null,null,null,null,null,null,null,null,null,null,null,null,{"$f":"'申込書（ｸﾗﾌﾞ事務局用）'!$K$87","v":6},{"$f":"'申込書（ｸﾗﾌﾞ事務局用）'!$D$86","v":0},{"$f":"'申込書（ｸﾗﾌﾞ事務局用）'!E96","v":0},{"$f":"'申込書（ｸﾗﾌﾞ事務局用）'!F96","v":0},{"$f":"'申込書（ｸﾗﾌﾞ事務局用）'!G96","v":0},{"$f":"'申込書（ｸﾗﾌﾞ事務局用）'!H96","v":0},{"$f":"'申込書（ｸﾗﾌﾞ事務局用）'!I96","v":""}]
[null,null,null,null,null,null,null,null,null,null,null,null,null,null,null,null,null,null,null,null,null,null,null,null,null,null,{"$f":"'申込書（ｸﾗﾌﾞ事務局用）'!$K$87","v":6},{"$f":"'申込書（ｸﾗﾌﾞ事務局用）'!$D$86","v":0},{"$f":"'申込書（ｸﾗﾌﾞ事務局用）'!E98","v":0},{"$f":"'申込書（ｸﾗﾌﾞ事務局用）'!F98","v":0},{"$f":"'申込書（ｸﾗﾌﾞ事務局用）'!G98","v":0},{"$f":"'申込書（ｸﾗﾌﾞ事務局用）'!H98","v":0},{"$f":"'申込書（ｸﾗﾌﾞ事務局用）'!I98","v":""}]
[null,null,null,null,null,null,null,null,null,null,null,null,null,null,null,null,null,null,null,null,null,null,null,null,null,null,{"$f":"'申込書（ｸﾗﾌﾞ事務局用）'!$K$87","v":6},{"$f":"'申込書（ｸﾗﾌﾞ事務局用）'!$D$86","v":0},{"$f":"'申込書（ｸﾗﾌﾞ事務局用）'!E99","v":0},{"$f":"'申込書（ｸﾗﾌﾞ事務局用）'!F99","v":0},{"$f":"'申込書（ｸﾗﾌﾞ事務局用）'!G99","v":0},{"$f":"'申込書（ｸﾗﾌﾞ事務局用）'!H99","v":0},{"$f":"'申込書（ｸﾗﾌﾞ事務局用）'!I99","v":""}]
[null,null,null,null,null,null,null,null,null,null,null,null,null,null,null,null,null,null,null,null,null,null,null,null,null,null,{"$f":"'申込書（ｸﾗﾌﾞ事務局用）'!$K$102","v":7},{"$f":"'申込書（ｸﾗﾌﾞ事務局用）'!$D$101","v":0},{"$f":"'申込書（ｸﾗﾌﾞ事務局用）'!E107","v":0},{"$f":"'申込書（ｸﾗﾌﾞ事務局用）'!F107","v":0},{"$f":"'申込書（ｸﾗﾌﾞ事務局用）'!G107","v":0},{"$f":"'申込書（ｸﾗﾌﾞ事務局用）'!H107","v":0},{"$f":"'申込書（ｸﾗﾌﾞ事務局用）'!I107","v":""}]
[null,null,null,null,null,null,null,null,null,null,null,null,null,null,null,null,null,null,null,null,null,null,null,null,null,null,{"$f":"'申込書（ｸﾗﾌﾞ事務局用）'!$K$102","v":7},{"$f":"'申込書（ｸﾗﾌﾞ事務局用）'!$D$101","v":0},{"$f":"'申込書（ｸﾗﾌﾞ事務局用）'!E108","v":0},{"$f":"'申込書（ｸﾗﾌﾞ事務局用）'!F108","v":0},{"$f":"'申込書（ｸﾗﾌﾞ事務局用）'!G108","v":0},{"$f":"'申込書（ｸﾗﾌﾞ事務局用）'!H108","v":0},{"$f":"'申込書（ｸﾗﾌﾞ事務局用）'!I108","v":""}]
[null,null,null,null,null,null,null,null,null,null,null,null,null,null,null,null,null,null,null,null,null,null,null,null,null,null,{"$f":"'申込書（ｸﾗﾌﾞ事務局用）'!$K$102","v":7},{"$f":"'申込書（ｸﾗﾌﾞ事務局用）'!$D$101","v":0},{"$f":"'申込書（ｸﾗﾌﾞ事務局用）'!E109","v":0},{"$f":"'申込書（ｸﾗﾌﾞ事務局用）'!F109","v":0},{"$f":"'申込書（ｸﾗﾌﾞ事務局用）'!G109","v":0},{"$f":"'申込書（ｸﾗﾌﾞ事務局用）'!H109","v":0},{"$f":"'申込書（ｸﾗﾌﾞ事務局用）'!I109","v":""}]
[null,null,null,null,null,null,null,null,null,null,null,null,null,null,null,null,null,null,null,null,null,null,null,null,null,null,{"$f":"'申込書（ｸﾗﾌﾞ事務局用）'!$K$102","v":7},{"$f":"'申込書（ｸﾗﾌﾞ事務局用）'!$D$101","v":0},{"$f":"'申込書（ｸﾗﾌﾞ事務局用）'!E110","v":0},{"$f":"'申込書（ｸﾗﾌﾞ事務局用）'!F110","v":0},{"$f":"'申込書（ｸﾗﾌﾞ事務局用）'!G110","v":0},{"$f":"'申込書（ｸﾗﾌﾞ事務局用）'!H110","v":0},{"$f":"'申込書（ｸﾗﾌﾞ事務局用）'!I110","v":""}]
[null,null,null,null,null,null,null,null,null,null,null,null,null,null,null,null,null,null,null,null,null,null,null,null,null,null,{"$f":"'申込書（ｸﾗﾌﾞ事務局用）'!$K$102","v":7},{"$f":"'申込書（ｸﾗﾌﾞ事務局用）'!$D$101","v":0},{"$f":"'申込書（ｸﾗﾌﾞ事務局用）'!E111","v":0},{"$f":"'申込書（ｸﾗﾌﾞ事務局用）'!F111","v":0},{"$f":"'申込書（ｸﾗﾌﾞ事務局用）'!G111","v":0},{"$f":"'申込書（ｸﾗﾌﾞ事務局用）'!H111","v":0},{"$f":"'申込書（ｸﾗﾌﾞ事務局用）'!I111","v":""}]
[null,null,null,null,null,null,null,null,null,null,null,null,null,null,null,null,null,null,null,null,null,null,null,null,null,null,{"$f":"'申込書（ｸﾗﾌﾞ事務局用）'!$K$102","v":7},{"$f":"'申込書（ｸﾗﾌﾞ事務局用）'!$D$101","v":0},{"$f":"'申込書（ｸﾗﾌﾞ事務局用）'!E113","v":0},{"$f":"'申込書（ｸﾗﾌﾞ事務局用）'!F113","v":0},{"$f":"'申込書（ｸﾗﾌﾞ事務局用）'!G113","v":0},{"$f":"'申込書（ｸﾗﾌﾞ事務局用）'!H113","v":0},{"$f":"'申込書（ｸﾗﾌﾞ事務局用）'!I113","v":""}]
[null,null,null,null,null,null,null,null,null,null,null,null,null,null,null,null,null,null,null,null,null,null,null,null,null,null,{"$f":"'申込書（ｸﾗﾌﾞ事務局用）'!$K$102","v":7},{"$f":"'申込書（ｸﾗﾌﾞ事務局用）'!$D$101","v":0},{"$f":"'申込書（ｸﾗﾌﾞ事務局用）'!E114","v":0},{"$f":"'申込書（ｸﾗﾌﾞ事務局用）'!F114","v":0},{"$f":"'申込書（ｸﾗﾌﾞ事務局用）'!G114","v":0},{"$f":"'申込書（ｸﾗﾌﾞ事務局用）'!H114","v":0},{"$f":"'申込書（ｸﾗﾌﾞ事務局用）'!I114","v":""}]
[null,null,null,null,null,null,null,null,null,null,null,null,null,null,null,null,null,null,null,null,null,null,null,null,null,null,{"$f":"'申込書（ｸﾗﾌﾞ事務局用）'!$K$117","v":8},{"$f":"'申込書（ｸﾗﾌﾞ事務局用）'!$D$116","v":0},{"$f":"'申込書（ｸﾗﾌﾞ事務局用）'!E122","v":0},{"$f":"'申込書（ｸﾗﾌﾞ事務局用）'!F122","v":0},{"$f":"'申込書（ｸﾗﾌﾞ事務局用）'!G122","v":0},{"$f":"'申込書（ｸﾗﾌﾞ事務局用）'!H122","v":0},{"$f":"'申込書（ｸﾗﾌﾞ事務局用）'!I122","v":""}]
[null,null,null,null,null,null,null,null,null,null,null,null,null,null,null,null,null,null,null,null,null,null,null,null,null,null,{"$f":"'申込書（ｸﾗﾌﾞ事務局用）'!$K$117","v":8},{"$f":"'申込書（ｸﾗﾌﾞ事務局用）'!$D$116","v":0},{"$f":"'申込書（ｸﾗﾌﾞ事務局用）'!E123","v":0},{"$f":"'申込書（ｸﾗﾌﾞ事務局用）'!F123","v":0},{"$f":"'申込書（ｸﾗﾌﾞ事務局用）'!G123","v":0},{"$f":"'申込書（ｸﾗﾌﾞ事務局用）'!H123","v":0},{"$f":"'申込書（ｸﾗﾌﾞ事務局用）'!I123","v":""}]
[null,null,null,null,null,null,null,null,null,null,null,null,null,null,null,null,null,null,null,null,null,null,null,null,null,null,{"$f":"'申込書（ｸﾗﾌﾞ事務局用）'!$K$117","v":8},{"$f":"'申込書（ｸﾗﾌﾞ事務局用）'!$D$116","v":0},{"$f":"'申込書（ｸﾗﾌﾞ事務局用）'!E124","v":0},{"$f":"'申込書（ｸﾗﾌﾞ事務局用）'!F124","v":0},{"$f":"'申込書（ｸﾗﾌﾞ事務局用）'!G124","v":0},{"$f":"'申込書（ｸﾗﾌﾞ事務局用）'!H124","v":0},{"$f":"'申込書（ｸﾗﾌﾞ事務局用）'!I124","v":""}]
[null,null,null,null,null,null,null,null,null,null,null,null,null,null,null,null,null,null,null,null,null,null,null,null,null,null,{"$f":"'申込書（ｸﾗﾌﾞ事務局用）'!$K$117","v":8},{"$f":"'申込書（ｸﾗﾌﾞ事務局用）'!$D$116","v":0},{"$f":"'申込書（ｸﾗﾌﾞ事務局用）'!E125","v":0},{"$f":"'申込書（ｸﾗﾌﾞ事務局用）'!F125","v":0},{"$f":"'申込書（ｸﾗﾌﾞ事務局用）'!G125","v":0},{"$f":"'申込書（ｸﾗﾌﾞ事務局用）'!H125","v":0},{"$f":"'申込書（ｸﾗﾌﾞ事務局用）'!I125","v":""}]
[null,null,null,null,null,null,null,null,null,null,null,null,null,null,null,null,null,null,null,null,null,null,null,null,null,null,{"$f":"'申込書（ｸﾗﾌﾞ事務局用）'!$K$117","v":8},{"$f":"'申込書（ｸﾗﾌﾞ事務局用）'!$D$116","v":0},{"$f":"'申込書（ｸﾗﾌﾞ事務局用）'!E126","v":0},{"$f":"'申込書（ｸﾗﾌﾞ事務局用）'!F126","v":0},{"$f":"'申込書（ｸﾗﾌﾞ事務局用）'!G126","v":0},{"$f":"'申込書（ｸﾗﾌﾞ事務局用）'!H126","v":0},{"$f":"'申込書（ｸﾗﾌﾞ事務局用）'!I126","v":""}]
[null,null,null,null,null,null,null,null,null,null,null,null,null,null,null,null,null,null,null,null,null,null,null,null,null,null,{"$f":"'申込書（ｸﾗﾌﾞ事務局用）'!$K$117","v":8},{"$f":"'申込書（ｸﾗﾌﾞ事務局用）'!$D$116","v":0},{"$f":"'申込書（ｸﾗﾌﾞ事務局用）'!E128","v":0},{"$f":"'申込書（ｸﾗﾌﾞ事務局用）'!F128","v":0},{"$f":"'申込書（ｸﾗﾌﾞ事務局用）'!G128","v":0},{"$f":"'申込書（ｸﾗﾌﾞ事務局用）'!H128","v":0},{"$f":"'申込書（ｸﾗﾌﾞ事務局用）'!I128","v":""}]
[null,null,null,null,null,null,null,null,null,null,null,null,null,null,null,null,null,null,null,null,null,null,null,null,null,null,{"$f":"'申込書（ｸﾗﾌﾞ事務局用）'!$K$117","v":8},{"$f":"'申込書（ｸﾗﾌﾞ事務局用）'!$D$116","v":0},{"$f":"'申込書（ｸﾗﾌﾞ事務局用）'!E129","v":0},{"$f":"'申込書（ｸﾗﾌﾞ事務局用）'!F129","v":0},{"$f":"'申込書（ｸﾗﾌﾞ事務局用）'!G129","v":0},{"$f":"'申込書（ｸﾗﾌﾞ事務局用）'!H129","v":0},{"$f":"'申込書（ｸﾗﾌﾞ事務局用）'!I129","v":""}]
[null,null,null,null,null,null,null,null,null,null,null,null,null,null,null,null,null,null,null,null,null,null,null,null,null,null,{"$f":"'申込書（ｸﾗﾌﾞ事務局用）'!$K$132","v":9},{"$f":"'申込書（ｸﾗﾌﾞ事務局用）'!$D$131","v":0},{"$f":"'申込書（ｸﾗﾌﾞ事務局用）'!E137","v":0},{"$f":"'申込書（ｸﾗﾌﾞ事務局用）'!F137","v":0},{"$f":"'申込書（ｸﾗﾌﾞ事務局用）'!G137","v":0},{"$f":"'申込書（ｸﾗﾌﾞ事務局用）'!H137","v":0},{"$f":"'申込書（ｸﾗﾌﾞ事務局用）'!I137","v":""}]
[null,null,null,null,null,null,null,null,null,null,null,null,null,null,null,null,null,null,null,null,null,null,null,null,null,null,{"$f":"'申込書（ｸﾗﾌﾞ事務局用）'!$K$132","v":9},{"$f":"'申込書（ｸﾗﾌﾞ事務局用）'!$D$131","v":0},{"$f":"'申込書（ｸﾗﾌﾞ事務局用）'!E138","v":0},{"$f":"'申込書（ｸﾗﾌﾞ事務局用）'!F138","v":0},{"$f":"'申込書（ｸﾗﾌﾞ事務局用）'!G138","v":0},{"$f":"'申込書（ｸﾗﾌﾞ事務局用）'!H138","v":0},{"$f":"'申込書（ｸﾗﾌﾞ事務局用）'!I138","v":""}]
[null,null,null,null,null,null,null,null,null,null,null,null,null,null,null,null,null,null,null,null,null,null,null,null,null,null,{"$f":"'申込書（ｸﾗﾌﾞ事務局用）'!$K$132","v":9},{"$f":"'申込書（ｸﾗﾌﾞ事務局用）'!$D$131","v":0},{"$f":"'申込書（ｸﾗﾌﾞ事務局用）'!E139","v":0},{"$f":"'申込書（ｸﾗﾌﾞ事務局用）'!F139","v":0},{"$f":"'申込書（ｸﾗﾌﾞ事務局用）'!G139","v":0},{"$f":"'申込書（ｸﾗﾌﾞ事務局用）'!H139","v":0},{"$f":"'申込書（ｸﾗﾌﾞ事務局用）'!I139","v":""}]
[null,null,null,null,null,null,null,null,null,null,null,null,null,null,null,null,null,null,null,null,null,null,null,null,null,null,{"$f":"'申込書（ｸﾗﾌﾞ事務局用）'!$K$132","v":9},{"$f":"'申込書（ｸﾗﾌﾞ事務局用）'!$D$131","v":0},{"$f":"'申込書（ｸﾗﾌﾞ事務局用）'!E140","v":0},{"$f":"'申込書（ｸﾗﾌﾞ事務局用）'!F140","v":0},{"$f":"'申込書（ｸﾗﾌﾞ事務局用）'!G140","v":0},{"$f":"'申込書（ｸﾗﾌﾞ事務局用）'!H140","v":0},{"$f":"'申込書（ｸﾗﾌﾞ事務局用）'!I140","v":""}]
[null,null,null,null,null,null,null,null,null,null,null,null,null,null,null,null,null,null,null,null,null,null,null,null,null,null,{"$f":"'申込書（ｸﾗﾌﾞ事務局用）'!$K$132","v":9},{"$f":"'申込書（ｸﾗﾌﾞ事務局用）'!$D$131","v":0},{"$f":"'申込書（ｸﾗﾌﾞ事務局用）'!E141","v":0},{"$f":"'申込書（ｸﾗﾌﾞ事務局用）'!F141","v":0},{"$f":"'申込書（ｸﾗﾌﾞ事務局用）'!G141","v":0},{"$f":"'申込書（ｸﾗﾌﾞ事務局用）'!H141","v":0},{"$f":"'申込書（ｸﾗﾌﾞ事務局用）'!I141","v":""}]
[null,null,null,null,null,null,null,null,null,null,null,null,null,null,null,null,null,null,null,null,null,null,null,null,null,null,{"$f":"'申込書（ｸﾗﾌﾞ事務局用）'!$K$132","v":9},{"$f":"'申込書（ｸﾗﾌﾞ事務局用）'!$D$131","v":0},{"$f":"'申込書（ｸﾗﾌﾞ事務局用）'!E143","v":0},{"$f":"'申込書（ｸﾗﾌﾞ事務局用）'!F143","v":0},{"$f":"'申込書（ｸﾗﾌﾞ事務局用）'!G143","v":0},{"$f":"'申込書（ｸﾗﾌﾞ事務局用）'!H143","v":0},{"$f":"'申込書（ｸﾗﾌﾞ事務局用）'!I143","v":""}]
[null,null,null,null,null,null,null,null,null,null,null,null,null,null,null,null,null,null,null,null,null,null,null,null,null,null,{"$f":"'申込書（ｸﾗﾌﾞ事務局用）'!$K$132","v":9},{"$f":"'申込書（ｸﾗﾌﾞ事務局用）'!$D$131","v":0},{"$f":"'申込書（ｸﾗﾌﾞ事務局用）'!E144","v":0},{"$f":"'申込書（ｸﾗﾌﾞ事務局用）'!F144","v":0},{"$f":"'申込書（ｸﾗﾌﾞ事務局用）'!G144","v":0},{"$f":"'申込書（ｸﾗﾌﾞ事務局用）'!H144","v":0},{"$f":"'申込書（ｸﾗﾌﾞ事務局用）'!I144","v":""}]
[null,null,null,null,null,null,null,null,null,null,null,null,null,null,null,null,null,null,null,null,null,null,null,null,null,null,{"$f":"'申込書（ｸﾗﾌﾞ事務局用）'!$K$147","v":10},{"$f":"'申込書（ｸﾗﾌﾞ事務局用）'!$D$146","v":0},{"$f":"'申込書（ｸﾗﾌﾞ事務局用）'!E152","v":0},{"$f":"'申込書（ｸﾗﾌﾞ事務局用）'!F152","v":0},{"$f":"'申込書（ｸﾗﾌﾞ事務局用）'!G152","v":0},{"$f":"'申込書（ｸﾗﾌﾞ事務局用）'!H152","v":0},{"$f":"'申込書（ｸﾗﾌﾞ事務局用）'!I152","v":""}]
[null,null,null,null,null,null,null,null,null,null,null,null,null,null,null,null,null,null,null,null,null,null,null,null,null,null,{"$f":"'申込書（ｸﾗﾌﾞ事務局用）'!$K$147","v":10},{"$f":"'申込書（ｸﾗﾌﾞ事務局用）'!$D$146","v":0},{"$f":"'申込書（ｸﾗﾌﾞ事務局用）'!E153","v":0},{"$f":"'申込書（ｸﾗﾌﾞ事務局用）'!F153","v":0},{"$f":"'申込書（ｸﾗﾌﾞ事務局用）'!G153","v":0},{"$f":"'申込書（ｸﾗﾌﾞ事務局用）'!H153","v":0},{"$f":"'申込書（ｸﾗﾌﾞ事務局用）'!I153","v":""}]
[null,null,null,null,null,null,null,null,null,null,null,null,null,null,null,null,null,null,null,null,null,null,null,null,null,null,{"$f":"'申込書（ｸﾗﾌﾞ事務局用）'!$K$147","v":10},{"$f":"'申込書（ｸﾗﾌﾞ事務局用）'!$D$146","v":0},{"$f":"'申込書（ｸﾗﾌﾞ事務局用）'!E154","v":0},{"$f":"'申込書（ｸﾗﾌﾞ事務局用）'!F154","v":0},{"$f":"'申込書（ｸﾗﾌﾞ事務局用）'!G154","v":0},{"$f":"'申込書（ｸﾗﾌﾞ事務局用）'!H154","v":0},{"$f":"'申込書（ｸﾗﾌﾞ事務局用）'!I154","v":""}]
[null,null,null,null,null,null,null,null,null,null,null,null,null,null,null,null,null,null,null,null,null,null,null,null,null,null,{"$f":"'申込書（ｸﾗﾌﾞ事務局用）'!$K$147","v":10},{"$f":"'申込書（ｸﾗﾌﾞ事務局用）'!$D$146","v":0},{"$f":"'申込書（ｸﾗﾌﾞ事務局用）'!E155","v":0},{"$f":"'申込書（ｸﾗﾌﾞ事務局用）'!F155","v":0},{"$f":"'申込書（ｸﾗﾌﾞ事務局用）'!G155","v":0},{"$f":"'申込書（ｸﾗﾌﾞ事務局用）'!H155","v":0},{"$f":"'申込書（ｸﾗﾌﾞ事務局用）'!I155","v":""}]
[null,null,null,null,null,null,null,null,null,null,null,null,null,null,null,null,null,null,null,null,null,null,null,null,null,null,{"$f":"'申込書（ｸﾗﾌﾞ事務局用）'!$K$147","v":10},{"$f":"'申込書（ｸﾗﾌﾞ事務局用）'!$D$146","v":0},{"$f":"'申込書（ｸﾗﾌﾞ事務局用）'!E156","v":0},{"$f":"'申込書（ｸﾗﾌﾞ事務局用）'!F156","v":0},{"$f":"'申込書（ｸﾗﾌﾞ事務局用）'!G156","v":0},{"$f":"'申込書（ｸﾗﾌﾞ事務局用）'!H156","v":0},{"$f":"'申込書（ｸﾗﾌﾞ事務局用）'!I156","v":""}]
[null,null,null,null,null,null,null,null,null,null,null,null,null,null,null,null,null,null,null,null,null,null,null,null,null,null,{"$f":"'申込書（ｸﾗﾌﾞ事務局用）'!$K$147","v":10},{"$f":"'申込書（ｸﾗﾌﾞ事務局用）'!$D$146","v":0},{"$f":"'申込書（ｸﾗﾌﾞ事務局用）'!E158","v":0},{"$f":"'申込書（ｸﾗﾌﾞ事務局用）'!F158","v":0},{"$f":"'申込書（ｸﾗﾌﾞ事務局用）'!G158","v":0},{"$f":"'申込書（ｸﾗﾌﾞ事務局用）'!H158","v":0},{"$f":"'申込書（ｸﾗﾌﾞ事務局用）'!I158","v":""}]
[null,null,null,null,null,null,null,null,null,null,null,null,null,null,null,null,null,null,null,null,null,null,null,null,null,null,{"$f":"'申込書（ｸﾗﾌﾞ事務局用）'!$K$147","v":10},{"$f":"'申込書（ｸﾗﾌﾞ事務局用）'!$D$146","v":0},{"$f":"'申込書（ｸﾗﾌﾞ事務局用）'!E159","v":0},{"$f":"'申込書（ｸﾗﾌﾞ事務局用）'!F159","v":0},{"$f":"'申込書（ｸﾗﾌﾞ事務局用）'!G159","v":0},{"$f":"'申込書（ｸﾗﾌﾞ事務局用）'!H159","v":0},{"$f":"'申込書（ｸﾗﾌﾞ事務局用）'!I159","v":""}]

{"sheet":"印刷指定","index":2,"n_rows":68,"n_cols":8,"rows_kept":68,"cut":false,"hidden":false,"merged":[[1,3,1,6],[9,7,10,11]]}
[{"$f":"'申込書（ｸﾗﾌﾞ事務局用）'!$A$2","v":"第５５回福井県秋季クラブ対抗バドミントン大会 参加申込書"}]
[null,null,null,"印刷指定画面"]
[]
[]
[]
[]
[]
[]
[]
[null,null,null,null,null,null,null,"プレビューを表示します。印刷するときはプレビュー画面にある印刷ボタンをクリックしてください。"]
[]
[]
[null,null,null,"最初に集計表をﾌﾟﾚﾋﾞｭｰします。印刷するときは、ﾌﾟﾚﾋﾞｭｰ画面にある「印刷」ﾎﾞﾀﾝをｸﾘｯｸしてください。"]
[null,null,null,"ﾌﾟﾚﾋﾞｭｰ画面の「閉じる」をｸﾘｯｸすると入力した「申込表」を表示します。無条件に10ﾁｰﾑ分を表示します。"]
[null,null,null,"１枚の紙に２チーム分を印刷するようにしてあります。"]
[null,null,null,"印刷するときは、ﾌﾟﾚﾋﾞｭｰ画面にある「印刷」ﾎﾞﾀﾝをｸﾘｯｸして、印刷範囲を指定してください。"]
[]
[]
[]
[]
[]
[]
[]
[null,null,null,null,"申込書（直接入力用）へ"]
[]
[]
[]
[]
[]
[]
[]
[]
[]
[]
[]
[]
[]
[]
[]
[]
[]
[]
[]
[]
[]
[]
[]
[]
[null,null,null,null,"Sub 保存終了()"]
[null,null,null,null,"'"]
[null,null,null,null,"' ファイルを保存してから画面を元に戻して終了する Macro"]
[null,null,null,null,"   Application.Goto Worksheets(\"申込ﾃﾞｰﾀ\").Range(\"A4\"), True"]
[null,null,null,null,"'   ActiveWorkbook.Save"]
[null,null,null,null,"    Application.Dialogs(xlDialogSaveAs).Show"]
[null,null,null,null,"    Application.DisplayFullScreen = False"]
[null,null,null,null,"    Application.DisplayFormulaBar = True"]
[null,null,null,null,"    Application.DisplayStatusBar = True"]
[null,null,null,null,"    Application.CommandBars(\"Standard\").Visible = True"]
[null,null,null,null,"    Application.CommandBars(\"Formatting\").Visible = True"]
[null,null,null,null,"    With ActiveWindow"]
[null,null,null,null,"        .DisplayHeadings = True"]
[null,null,null,null,"        .DisplayHorizontalScrollBar = True"]
[null,null,null,null,"        .DisplayVerticalScrollBar = True"]
[null,null,null,null,"        .DisplayWorkbookTabs = True"]
[null,null,null,null,"    End With"]
[null,null,null,null,"'   Application.Quit"]
[null,null,null,null,"   ActiveWorkbook.Close SaveChanges:=False"]
[null,null,null,null,"End Sub"]

{"sheet":"手書き用申込用紙","index":3,"n_rows":26,"n_cols":12,"rows_kept":26,"cut":false,"hidden":false,"merged":[[0,1,0,5],[8,1,8,3],[9,1,9,3],[10,1,10,3],[10,4,10,8],[22,11,24,13],[14,7,16,10],[5,9,6,13],[12,1,13,3],[14,1,15,3],[17,1,17,4],[18,1,18,4],[19,1,19,4],[18,11,21,13],[12,7,12,8],[12,9,12,10],[11,1,11,3],[11,7,11,8],[11,9,11,10]]}
[null,"これは手書き用です。印刷して必要事項を書き込み、市町の協会または連盟の事務局へ提出してください。",null,null,null,null,null,"申込書（直接入力用）へ戻る"]
[]
[]
[null,{"$f":"'申込書（ｸﾗﾌﾞ事務局用）'!$A$2","v":"第５５回福井県秋季クラブ対抗バドミントン大会 参加申込書"},null,null,null,null,null,null,null,"下の何も色のついていない枠内に書き込んでください。"]
[]
[null,null,null,null,"市町協会・連盟　会長あて",null,null,null,null,"　この申込書は、記入後、参加料を添えて加盟団体（市町協会、実業団連盟、レディース連盟、教職員連盟）事務局へ提出してください。"]
[null,null,null,null,"下記のとおり申し込みます。"]
[]
[null,"クラブ名"]
[null,"代表者(申込責任者)氏名"]
[null,"代表者電話＆ﾒｰﾙｱﾄﾞﾚｽ"]
[null,"申込部門",null,null,"チーム名","市町名（活動拠点）","加盟団体","参加料",null,"申込責任者氏名",null,"連絡先"]
[null,"Ａの部男子 ・ Ａの部女子\n\nＢの部男子 ・ Ｂの部女子\n\n１部 ・ ２部 ・ ３部",null,null,null,null,"＿＿＿＿協会\n\n＿＿＿＿連盟",{"$f":"\"①一般・大学\"&FIXED(ASC('申込書（ｸﾗﾌﾞ事務局用）'!$W$11),0)&\"円　　\"&\"②　　高校生\"&FIXED(ASC('申込書（ｸﾗﾌﾞ事務局用）'!$W$12),0)&\"円　　\"&\"③　小中学生\"&FIXED(ASC('申込書（ｸﾗﾌﾞ事務局用）'!$W$13),0)&\"円　\"","v":"①一般・大学4,000円　　②　　高校生3,000円　　③　小中学生2,000円　"}]
[null,null,null,null,null,"氏名","↑加盟している団体を記入","↑当てはまるものを○で囲むこと"]
[null,"↑上から順に申し込む箇所を○で囲んでください。",null,null,null,null,"監督","監督、コーチ、マネージャーが選手を兼ねるときは下の選手欄にも記載すること"]
[null,null,null,null,null,null,"ｺｰﾁ"]
[null,null,null,null,null,null,"ﾏﾈｰｼﾞｬｰ"]
[null,"Ａの部は５～７人で構成。選手は兼ねることができません。",null,null,null,"選手氏名","登録番号","小中高\n大一般","登録団体","性別"]
[null,"Ｂの部は６～８人で構成。選手は兼ねることができません。",null,null,null,null,null,null,null,null,"選手1","　「日バ登録番号」＝登録済み者は番号を記入すること。未登録の場合は「手続中」として、チームの代表の方は「加盟団体」事務局で選手の登録手続きをとってください。詳しくは加盟団体事務局に問い合わせてるださい。\n\n　「小中高大一般」＝左の選手が小学生か中学生なら「小中」、高校生なら「高」、大学生なら「大」、学生以外なら「一般」と記入してください。"]
[null,"当日、最大人数を超えない範囲で３人まで選手を変更または追加することができます。(最大人数＝Ａの部は７人　Ｂの部は８人)",null,null,null,null,null,null,null,null,"選手2"]
[null,null,null,null,null,null,null,null,null,null,"選手3"]
[null,null,null,null,null,null,null,null,null,null,"選手4"]
[null,null,null,null,null,null,null,null,null,null,"選手5","　選手の「加盟団体名」が分からないときは、普段活動している体育館がある市や町のバドミントン協会などに聞いてみてください。\n\n　「性別」＝「男」「女」を記入してください。"]
[null,null,null,null,null,null,null,null,null,null,"選手6"]
[null,null,null,null,null,null,null,null,null,null,"選手7"]
[null,null,null,null,null,null,null,null,null,null,"選手8"]